Workbook
Name А1: #REF!
Name А1: #REF!
Name А1: #REF!
Name А1: #REF!
Name А1: #REF!
Name А1: #REF!
Name А1: #REF!
Name А1: #REF!
Name А1: #REF!
Name А1: #REF!
Name А1: #REF!

Sheet Дод 1
C1: Додаток 1
F2: до рішення XХХХХVІ сесії Великокучурівської сільської ради VIІI скликання від 06.05.2026р. № 93-56/2026
F3: "Про внесення змін до бюджету Великокучурівської сільської територіальної громади на 2026 рік"
A5: Доходи бюджету Великокучурівської СТГ на 2026 рік
A6: 24502000000
A7: (код бюджету) | F7: (грн)
A8: Код | B8: Найменування згідно з Класифікацією доходів бюджету | C8: Усього | D8: Загальний фонд | E8: Спеціальний фонд
E9: усього | F9: у тому числі бюджет розвитку
A11: 1 | B11: 2 | C11: 3 | D11: 4 | E11: 5 | F11: 6
A12: 10000000 | B12: Податкові надходження | C12: 73117100 | D12: 73117100 | E12: 0 | F12: 0
A13: 11000000 | B13: Податки на доходи, податки на прибуток, податки на збільшення ринкової вартості | C13: 40155700 | D13: 40155700 | E13: 0 | F13: 0
A14: 11010000 | B14: Податок та збір на доходи фізичних осіб | C14: 40152700 | D14: 40152700 | E14: 0 | F14: 0
A15: 11010100 | B15: Податок на доходи фізичних осіб, що сплачується податковими агентами, із доходів платника податку у вигляді заробітної плати | C15: 32751200 | D15: 32751200 | E15: 0 | F15: 0
A16: 11010400 | B16: Податок на доходи фізичних осіб, що сплачується податковими агентами, із доходів платника податку інших ніж заробітна плата | C16: 6217500 | D16: 6217500 | E16: 0 | F16: 0
A17: 11010500 | B17: Податок на доходи фізичних осіб, що сплачується фізичними особами за результатами річного декларування | C17: 772000 | D17: 772000 | E17: 0 | F17: 0
A18: 11011300 | B18: Податок на доходи фізичних осіб у вигляді мінімального податкового зобов`язання, що підлягає сплаті фізичними особами | C18: 412000 | D18: 412000 | E18: 0 | F18: 0
A19: 11020000 | B19: Податок на прибуток підприємств | C19: 3000 | D19: 3000 | E19: 0 | F19: 0
A20: 11020200 | B20: Податок на прибуток підприємств та фінансових установ комунальної власності | C20: 3000 | D20: 3000 | E20: 0 | F20: 0
A21: 13000000 | B21: Рентна плата та плата за використання інших природних ресурсів | C21: 162600 | D21: 162600 | E21: 0 | F21: 0
A22: 13010000 | B22: Рентна плата за спеціальне використання лісових ресурсів | C22: 160300 | D22: 160300 | E22: 0 | F22: 0
A23: 13010100 | B23: Рентна плата за спеціальне використання лісових ресурсів в частині деревини, заготовленої в порядку рубок головного користування | C23: 54500 | D23: 54500 | E23: 0 | F23: 0
... A73: 50110000 | B73: Цільові фонди, утворені Верховною Радою Автономної Республіки Крим, органами місцевого самоврядування та місцевими органами виконавчої влади | C73: 80000 | D73: 0 | E73: 80000 | F73: 0
B74: Усього доходів (без урахування міжбюджетних трансфертів) | C74: 76367400 | D74: 74999400 | E74: 1368000 | F74: 0
A75: 40000000 | B75: Офіційні трансферти | C75: 78273520 | D75: 78273520 | E75: 0 | F75: 0
A76: 41000000 | B76: Від органів державного управління | C76: 78273520 | D76: 78273520 | E76: 0 | F76: 0
A77: 41020000 | B77: Дотації з державного бюджету місцевим бюджетам | C77: 29718600 | D77: 29718600 | E77: 0 | F77: 0
A78: 41020100 | B78: Базова дотація | C78: 29521700 | D78: 29521700 | E78: 0 | F78: 0
A79: 41021400 | B79: Додаткова дотація з державного бюджету місцевим бюджетам на здійснення повноважень органів місцевого самоврядування на деокупованих, тимчасово окупованих та інших територіях України, що зазнали негативного впливу у зв`язку з повномасштабною збройною агресією Російської Федерації | C79: 196900 | D79: 196900 | E79: 0 | F79: 0
A80: 41030000 | B80: Субвенції з державного бюджету місцевим бюджетам | C80: 48154600 | D80: 48154600 | E80: 0 | F80: 0
A81: 41031100 | B81: Субвенція з державного бюджету місцевим бюджетам на забезпечення харчуванням учнів закладів загальної середньої освіти | C81: 2126300 | D81: 2126300 | E81: 0 | F81: 0
A82: 41033900 | B82: Освітня субвенція з державного бюджету місцевим бюджетам | C82: 41034900 | D82: 41034900 | E82: 0 | F82: 0
A83: 41035400 | B83: Субвенція з державного бюджету місцевим бюджетам на надання державної підтримки особам з особливими освітніми потребами | C83: 264500 | D83: 264500 | E83: 0 | F83: 0
A84: 41036000 | B84: Субвенція з державного бюджету місцевим бюджетам на реалізацію публічного інвестиційного проекту на забезпечення якісної, сучасної та доступної загальної середньої освіти `Нова українська школа` | C84: 471700 | D84: 471700 | E84: 0 | F84: 0
A85: 41036300 | B85: Субвенція з державного бюджету місцевим бюджетам на здійснення доплат педагогічним працівникам закладів загальної середньої освіти | C85: 4257200 | D85: 4257200 | E85: 0 | F85: 0
A86: 41050000 | B86: Субвенції з місцевих бюджетів іншим місцевим бюджетам | C86: 400320 | D86: 400320 | E86: 0 | F86: 0
A87: 41059300 | B87: Субвенція з місцевого бюджету на забезпечення діяльності фахівців із супроводу ветеранів війни та демобілізованих осіб та окремі заходи з підтримки осіб, які захищали незалежність, суверенітет та територіальну цілісність України, за рахунок відповідної субвенції з державного бюджету | C87: 400320 | D87: 400320 | E87: 0 | F87: 0
A88: X | B88: Разом доходів | C88: 154640920 | D88: 153272920 | E88: 1368000 | F88: 0
B92: Начальник фінансового відділу Ганна ДОМІТРЮК

Sheet дод 2
D1: Додаток №2
F2: ='Дод 1'!F2 -> до рішення XХХХХVІ сесії Великокучурівської сільської ради VIІI скликання від 06.05.2026р. № 93-56/2026
F3: ='Дод 1'!F3 -> "Про внесення змін до бюджету Великокучурівської сільської територіальної громади на 2026 рік"
A5: Фінансування бюджету Великокучурівської СТГ на 2026 рік
A6: 2450200000
A7: (код бюджету) | F7: (грн)
A8: Код | B8: Найменування згідно з Класифікацією фінансування бюджету | C8: Усього | D8: Загальний фонд | E8: Спеціальний фонд
E9: усього | F9: у тому числі бюджет розвитку
A11: 1 | B11: 2 | C11: 3 | D11: 4 | E11: 5 | F11: 6
A12: Фінансування за типом кредитора
A13: 200000 | B13: Внутрішнє фінансування | C13: 11384559 | D13: 9813488.8 | E13: 1571070.1 | F13: 1280455
A14: 208000 | B14: Фінансування за рахунок зміни залишків коштів бюджетів | C14: 11384559 | D14: 9813488.8 | E14: 1571070.1 | F14: 1280455
A15: 208100 | B15: На початок періоду | C15: 11427849 | D15: 11006489 | E15: 421359.93 | F15: 87455
A16: 208200 | B16: На кінець періоду | C16: 43289.87 | D16: 0 | E16: 43289.87 | F16: 0
A17: 208400 | B17: Кошти, що передаються із загального фонду бюджету до бюджету розвитку (спеціального фонду) | C17: 0 | D17: -1193000 | E17: 1193000 | F17: 1193000
A18: X | B18: Загальне фінансування | C18: 11384559 | D18: 9813488.8 | E18: 1571070.1 | F18: 1280455
A19: Фінансування за типом боргового зобов'язання
A20: 600000 | B20: Фінансування за активними операціями | C20: 11384559 | D20: 9813488.8 | E20: 1571070.1 | F20: 1280455
A21: 602000 | B21: Зміни обсягів бюджетних коштів | C21: 11384559 | D21: 9813488.8 | E21: 1571070.1 | F21: 1280455
A22: 602100 | B22: На початок періоду | C22: 11427849 | D22: 11006489 | E22: 421359.93 | F22: 87455
A23: 602200 | B23: На кінець періоду | C23: 43289.87 | D23: 0 | E23: 43289.87 | F23: 0
A24: 602400 | B24: Кошти, що передаються із загального фонду бюджету до бюджету розвитку (спеціального фонду) | C24: 0 | D24: -1193000 | E24: 1193000 | F24: 1193000
A25: X | B25: Загальне фінансування | C25: 11384559 | D25: 9813488.8 | E25: 1571070.1 | F25: 1280455
A28: Начальник фінансового відділу Ганна ДОМІТРЮК

Sheet дод3
L1: Додаток 2
O2: ='дод 2'!F2 -> до рішення XХХХХVІ сесії Великокучурівської сільської ради VIІI скликання від 06.05.2026р. № 93-56/2026
O3: ='дод 2'!F3 -> "Про внесення змін до бюджету Великокучурівської сільської територіальної громади на 2026 рік"
A4: РОЗПОДІЛ
A5: видатків бюджету Великокучурівської СТГ на 2026 рік
A6: 24502000000
A7: (код бюджету) | P7: (грн.)
A8: Код Програмної класифікації видатків та кредитування місцевого бюджету | B8: Код Типової програмної класифікації видатків та кредитування місцевого бюджету | C8: Код Функціональної класифікації видатків та кредитування бюджету | D8: Найменування головного розпорядника коштів місцевого бюджету/ відповідального виконавця, найменування бюджетної програми згідно з Типовою програмною класифікацією видатків та кредитування місцевого бюджету | E8: Загальний фонд | J8: Спеціальний фонд | P8: Разом
E9: усього | F9: видатки споживання | G9: з них | I9: видатки розвитку | J9: усього | K9: у тому числі бюджет розвитку | L9: видатки споживання | M9: з них | O9: видатки розвитку
G10: оплата праці | H10: комунальні послуги та енергоносії | M10: оплата праці | N10: комунальні послуги та енергоносії
A12: 1 | B12: 2 | C12: 3 | D12: 4 | E12: 5 | F12: 6 | G12: 7 | H12: 8 | I12: 9 | J12: 10 | K12: 11 | L12: 12 | M12: 13 | N12: 14 | O12: 15 | P12: 16
A13: 0100000 | D13: Великокучурівська сільська рада | E13: 48892609 | F13: 36790509 | G13: 17481000 | H13: 2101788.8 | I13: 12102100 | J13: 370615.06 | K13: 0 | L13: 370615.06 | M13: 0 | N13: 288476.93 | O13: 0 | P13: 49263224
A14: 0110000 | D14: Апарат (секретаріат) місцевої ради (Верховної Ради Автономної Республіки Крим, обласних, Київської та Севастопольської міських рад, районних рад і рад міст обласного та республіканського Автономної Республіки Крим, районного значення, селищних, сільських рад | E14: 48892609 | F14: 36790509 | G14: 17481000 | H14: 2101788.8 | I14: 12102100 | J14: 370615.06 | K14: 0 | L14: 370615.06 | M14: 0 | N14: 288476.93 | O14: 0 | P14: 49263224
A15: 0110150 | B15: 0150 | C15: 0111 | D15: Організаційне, інформаційно-аналітичне та матеріально-технічне забезпечення діяльності обласної ради, районної ради, районної у місті ради (у разі її створення), міської, селищної, сільської рад | E15: 22367800 | F15: 22367800 | G15: 13400000 | H15: 1024100 | I15: 0 | J15: 0 | K15: 0 | L15: 0 | M15: 0 | N15: 0 | O15: 0 | P15: 22367800
A16: 0110160 | B16: 0160 | C16: 0111 | D16: Керівництво і управління у відповідній сфері у містах (місті Києві), селищах, селах, територіальних громадах | E16: 3078000 | F16: 3078000 | G16: 2500000 | H16: 0 | I16: 0 | J16: 0 | K16: 0 | L16: 0 | M16: 0 | N16: 0 | O16: 0 | P16: 3078000
A17: 0110180 | B17: 0180 | C17: 0133 | D17: Інша діяльність у сфері державного управління | E17: 195000 | F17: 195000 | G17: 0 | H17: 0 | I17: 0 | J17: 0 | K17: 0 | L17: 0 | M17: 0 | N17: 0 | O17: 0 | P17: 195000
A18: 0112113 | B18: 2113 | C18: 0721 | D18: Первинна медична допомога населенню, що надається амбулаторно-поліклінічними закладами (відділеннями) | E18: 740000 | F18: 740000 | G18: 0 | H18: 0 | I18: 0 | J18: 0 | K18: 0 | L18: 0 | M18: 0 | N18: 0 | O18: 0 | P18: 740000
A19: 0113032 | B19: 3032 | C19: 1070 | D19: Надання пільг окремим категоріям громадян з оплати послуг зв`язку | E19: 2200 | F19: 2200 | G19: 0 | H19: 0 | I19: 0 | J19: 0 | K19: 0 | L19: 0 | M19: 0 | N19: 0 | O19: 0 | P19: 2200
A20: 0113033 | B20: 3033 | C20: 1070 | D20: Компенсаційні виплати на пільговий проїзд автомобільним транспортом окремим категоріям громадян | E20: 240000 | F20: 240000 | G20: 0 | H20: 0 | I20: 0 | J20: 0 | K20: 0 | L20: 0 | M20: 0 | N20: 0 | O20: 0 | P20: 240000
A21: 0113035 | B21: 3035 | C21: 1070 | D21: Компенсаційні виплати за пільговий проїзд окремих категорій громадян на залізничному транспорті | E21: 14800 | F21: 14800 | G21: 0 | H21: 0 | I21: 0 | J21: 0 | K21: 0 | L21: 0 | M21: 0 | N21: 0 | O21: 0 | P21: 14800
A22: 0113112 | B22: 3112 | C22: 1040 | D22: Заходи державної політики з питань дітей та їх соціального захисту | E22: 50000 | F22: 50000 | G22: 0 | H22: 0 | I22: 0 | J22: 0 | K22: 0 | L22: 0 | M22: 0 | N22: 0 | O22: 0 | P22: 50000
A23: 0113114 | B23: 3114 | C23: 1040 | D23: Забезпечення умов для догляду та виховання дітей і молоді в дитячих будинках сімейного типу, прийомних сім`ях та сім`ях патронатних вихователів | E23: 50000 | F23: 50000 | G23: 0 | H23: 0 | I23: 0 | J23: 0 | K23: 0 | L23: 0 | M23: 0 | N23: 0 | O23: 0 | P23: 50000
A24: 0113121 | B24: 3121 | C24: 1040 | D24: Здійснення соціальної роботи та надання соціальних послуг центрами соціальних служб та центрами надання соціальних послуг особам/сім`ям, які належать до вразливих груп населення та/або перебувають у складних життєвих обставинах | E24: 3287000 | F24: 3287000 | G24: 0 | H24: 0 | I24: 0 | J24: 0 | K24: 0 | L24: 0 | M24: 0 | N24: 0 | O24: 0 | P24: 3287000
A25: 0113160 | B25: 3160 | C25: 1010 | D25: Надання соціальних гарантій фізичним особам, які надають соціальні послуги громадянам похилого віку, особам з інвалідністю, дітям з інвалідністю, хворим, які не здатні до самообслуговування і потребують сторонньої допомоги | E25: 120000 | F25: 120000 | G25: 0 | H25: 0 | I25: 0 | J25: 0 | K25: 0 | L25: 0 | M25: 0 | N25: 0 | O25: 0 | P25: 120000
A26: 0113191 | B26: 3191 | C26: 1030 | D26: Інші видатки на соціальний захист ветеранів війни та праці | E26: 600000 | F26: 600000 | G26: 0 | H26: 0 | I26: 0 | J26: 0 | K26: 0 | L26: 0 | M26: 0 | N26: 0 | O26: 0 | P26: 600000
... A41: 0118240 | B41: 8240 | C41: 0380 | D41: Заходи та роботи з територіальної оборони | E41: 250000 | F41: 250000 | G41: 0 | H41: 0 | I41: 0 | J41: 0 | K41: 0 | L41: 0 | M41: 0 | N41: 0 | O41: 0 | P41: 250000
A42: 0600000 | D42: Відділ ОКМС Великокучурівської с/р | E42: 109143300 | F42: 107390800 | G42: 74555803 | H42: 5746300 | I42: 1752500 | J42: 2080155 | K42: 792155 | L42: 1288000 | M42: 100000 | N42: 0 | O42: 792155 | P42: 111223455
A43: 0610000 | D43: Відділ ОКМС Великокучурівської с/р | E43: 109143300 | F43: 107390800 | G43: 74555803 | H43: 5746300 | I43: 1752500 | J43: 2080155 | K43: 792155 | L43: 1288000 | M43: 100000 | N43: 0 | O43: 792155 | P43: 111223455
A44: 0610160 | B44: 0160 | C44: 0111 | D44: Керівництво і управління у відповідній сфері у містах (місті Києві), селищах, селах, територіальних громадах | E44: 2828700 | F44: 2828700 | G44: 2273100 | H44: 0 | I44: 0 | J44: 0 | K44: 0 | L44: 0 | M44: 0 | N44: 0 | O44: 0 | P44: 2828700
A45: 0611010 | B45: 1010 | C45: 0910 | D45: Надання дошкільної освіти | E45: 21993700 | F45: 21993700 | G45: 14882000 | H45: 760400 | I45: 0 | J45: 1168000 | K45: 0 | L45: 1168000 | M45: 0 | N45: 0 | O45: 0 | P45: 23161700
A46: 0611021 | B46: 1021 | C46: 0921 | D46: Надання загальної середньої освіти закладами загальної середньої освіти за рахунок коштів місцевого бюджету | E46: 21399200 | F46: 19646700 | G46: 9382000 | H46: 4347700 | I46: 1752500 | J46: 20000 | K46: 0 | L46: 20000 | M46: 0 | N46: 0 | O46: 0 | P46: 21419200
A47: 0611031 | B47: 1031 | C47: 0921 | D47: Надання загальної середньої освіти закладами загальної середньої освіти за рахунок освітньої субвенції | E47: 41034900 | F47: 41034900 | G47: 33100200 | H47: 0 | I47: 0 | J47: 0 | K47: 0 | L47: 0 | M47: 0 | N47: 0 | O47: 0 | P47: 41034900
A48: 0611080 | B48: 1080 | C48: 0960 | D48: Надання спеціалізованої освіти мистецькими школами | E48: 6592500 | F48: 6592500 | G48: 5129000 | H48: 206200 | I48: 0 | J48: 100000 | K48: 0 | L48: 100000 | M48: 100000 | N48: 0 | O48: 0 | P48: 6692500
A49: 0611141 | B49: 1141 | C49: 0990 | D49: Забезпечення діяльності інших закладів у сфері освіти | E49: 2478100 | F49: 2478100 | G49: 1921800 | H49: 0 | I49: 0 | J49: 0 | K49: 0 | L49: 0 | M49: 0 | N49: 0 | O49: 0 | P49: 2478100
A50: 0611184 | B50: 1184 | C50: 0990 | D50: Виконання заходів, спрямованих на реалізацію публічного інвестиційного проекту на забезпечення якісної, сучасної та доступної загальної середньої освіти `Нова українська школа` за рахунок субвенції з державного бюджету місцевим бюджетам | E50: 0 | F50: 0 | G50: 0 | H50: 0 | I50: 0 | J50: 471700 | K50: 471700 | L50: 0 | M50: 0 | N50: 0 | O50: 471700 | P50: 471700
A51: 0611200 | B51: 1200 | C51: 0990 | D51: Проведення (надання) додаткових психолого- педагогічних і корекційно-розвиткових занять (послуг) за рахунок субвенції з державного бюджету місцевим бюджетам на надання державної підтримки особам з особливими освітніми потребами | E51: 264500 | F51: 264500 | G51: 216803 | H51: 0 | I51: 0 | J51: 0 | K51: 0 | L51: 0 | M51: 0 | N51: 0 | O51: 0 | P51: 264500
A52: 0611300 | B52: 1300 | C52: 0990 | D52: Підготовка та реалізація публічних інвестиційних проектів / програм публічних інвестицій за рахунок коштів місцевого бюджету в галузі освіти | E52: 0 | F52: 0 | G52: 0 | H52: 0 | I52: 0 | J52: 320455 | K52: 320455 | L52: 0 | M52: 0 | N52: 0 | O52: 320455 | P52: 320455
A53: 0611600 | B53: 1600 | C53: 0990 | D53: Здійснення доплат педагогічним працівникам закладів загальної середньої освіти за рахунок субвенції з державного бюджету місцевим бюджетам | E53: 4257200 | F53: 4257200 | G53: 3489500 | H53: 0 | I53: 0 | J53: 0 | K53: 0 | L53: 0 | M53: 0 | N53: 0 | O53: 0 | P53: 4257200
A54: 0611702 | B54: 1702 | C54: 0990 | D54: Забезпечення харчуванням учнів закладів загальної середньої освіти за рахунок субвенції з державного бюджету місцевим бюджетам | E54: 2126300 | F54: 2126300 | G54: 0 | H54: 0 | I54: 0 | J54: 0 | K54: 0 | L54: 0 | M54: 0 | N54: 0 | O54: 0 | P54: 2126300
A55: 0613230 | B55: 3230 | C55: 1070 | D55: Видатки, пов`язані з наданням підтримки внутрішньо перемішеним та/або евакуйованим особам у зв`язку із введенням воєнного стану | E55: 200000 | F55: 200000 | G55: 0 | H55: 0 | I55: 0 | J55: 0 | K55: 0 | L55: 0 | M55: 0 | N55: 0 | O55: 0 | P55: 200000
...

Sheet дод 4
C1: Додаток 3
D2: =дод3!O2 -> до рішення XХХХХVІ сесії Великокучурівської сільської ради VIІI скликання від 06.05.2026р. № 93-56/2026
D3: =дод3!O3 -> "Про внесення змін до бюджету Великокучурівської сільської територіальної громади на 2026 рік"
A6: Міжбюджетні трансферти на 2026 рік
A7: 2450200000
A8: (код бюджету)
A9: 1. Показники міжбюджетних трансфертів з інших бюджетів
D10: (грн)
A11: Код Класифікації доходу бюджету/ Код бюджету | B11: Найменування трансферту/ Найменування бюджету – надавача міжбюджетного трансферту | D11: Усього
A12: 1 | B12: 2 | D12: 3
A13: І. Трансферти до загального фонду бюджету
A14: 41020100 | B14: Базова дотація | D14: 29521700
A15: 9900000000 | B15: Державний бюджет | D15: 29521700
A16: 41021400 | B16: Додаткова дотація з державного бюджету місцевим бюджетам на здійснення повноважень органів місцевого самоврядування на деокупованих, тимчасово окупованих та інших територіях України, що зазнали негативного впливу у зв`язку з повномасштабною збройною агресією Російської Федерації | D16: 196900
A17: 9900000000 | B17: Державний бюджет | D17: 196900
A18: 41031100 | B18: Субвенція з державного бюджету місцевим бюджетам на забезпечення харчуванням учнів закладів загальної середньої освіти | D18: 2126300
A19: 9900000000 | B19: Державний бюджет | D19: 2126300
A20: 41033900 | B20: Освітня субвенція з державного бюджету місцевим бюджетам | D20: 41034900
A21: 9900000000 | B21: Державний бюджет | D21: 41034900
A22: 41036000 | B22: Субвенція з державного бюджету місцевим бюджетам на реалізацію публічного інвестиційного проекту на забезпечення якісної, сучасної та доступної загальної середньої освіти `Нова українська школа` | D22: 471700
A23: 9900000000 | B23: Державний бюджет | D23: 471700
A24: 41036300 | B24: Субвенція з державного бюджету місцевим бюджетам на здійснення доплат педагогічним працівникам закладів загальної середньої освіти | D24: 4257200
A25: 9900000000 | B25: Державний бюджет | D25: 4257200
... A29: 2410000000 | B29: Обласний бюджет Чернівецької області | D29: 400320
A30: ІІ. Трансферти до спеціального фонду бюджету
A31: X | B31: УСЬОГО за розділом І та ІІ, у тому числі: | D31: 78273520
A32: X | B32: загальний фонд | D32: 78273520
A33: X | B33: спеціальний фонд | D33: 0
A35: 2. Показники міжбюджетних трансфертів іншим бюджетам | D35: (грн)
A36: Код Програмної класифікації видатків та кредитування місцевого бюджету/ Код бюджету | B36: Код типової програмної класифікації видатків та кредитування місцевого бюджету | C36: Найменування трансферту/ Найменування бюджету – отримувача міжбюджетного трансферту | D36: Усього
A37: 1 | B37: 2 | C37: 3 | D37: 4
A38: І. Трансферти із загального фонду бюджету
A39: 3719730 | B39: 9730 | C39: Субвенція з місцевого бюджету на фінансове забезпечення будівництва, реконструкції, ремонту і утримання автомобільних доріг загального користування місцевого значення, вулиць і доріг комунальної власності у населених пунктах | D39: 1000000
A40: 2410000000 | B40: 9730 | C40: Обласний бюджет Чернівецької області | D40: 1000000
A41: 3719770 | B41: 9770 | C41: Інші субвенції з місцевого бюджету | D41: 766800
A42: 2410000000 | B42: 9770 | C42: Обласний бюджет Чернівецької області | D42: 200000
A43: 2451300000 | B43: 9770 | C43: Бюджет Сторожинецької міської територіальної громади | D43: 566800
A44: 3719800 | B44: 9800 | C44: Субвенція з місцевого бюджету державному бюджету на виконання програм соціально-економічного розвитку регіонів | D44: 835000
A45: 9900000000 | B45: 9800 | C45: Державний бюджет | D45: 835000
A46: ІІ. Трансферти із спеціального фонду бюджету
...

Sheet дод.5
L1: Додаток №5
N2: ='дод 4'!D2 -> до рішення XХХХХVІ сесії Великокучурівської сільської ради VIІI скликання від 06.05.2026р. № 93-56/2026
N3: ='дод 4'!D3 -> "Про внесення змін до бюджету Великокучурівської сільської територіальної громади на 2026 рік"
A5: Обсяги публічних інвестицій у розрізі публічних інвестиційних проєктів та програм публічних інвестицій у 2026 році
A6: 2450200000
A7: (код бюджету) | N7: (грн)
A8: № з/п | B8: Найменування галузі (сектору) для публічного інвестування / публічного інвестиційного проєкту / програми публічних інвестицій | C8: Унікальний ідентифікатор проєкту / програми | D8: Код Програмної класифікації видатків та кредитування місцевого бюджету | E8: Найменування бюджетної програми згідно з Типовою програмною класифікацією видатків та кредитування місцевого бюджету | F8: Найменування відповідального головного розпорядника коштів місцевого бюджету за галузь (сектор) / головного розпорядника коштів місцевого бюджету / відповідального виконавця | G8: Період реалізації публічного інвестиційного проєкту / програми публічних інвестицій (рік початку і завершення) | H8: Загальна вартість публічного інвестиційного проєкту / програми публічних інвестицій | I8: Обсяг бюджетних коштів, спрямованих на реалізацію публічного інвестиційного проєкту / програми публічних інвестицій у 2026 році | J8: у тому числі за рахунок:
J9: коштів місцевого бюджету | K9: міжбюджетних трансфертів з державного бюджету | L9: міжбюджетних трансфертів з інших місцевих бюджетів | M9: місцевих запозичень | N9: інших джерел
A10: 1 | B10: 2 | C10: 3 | D10: 4 | E10: 5 | F10: 6 | G10: 7 | H10: 8 | I10: 9 | J10: 10 | K10: 11 | L10: 12 | M10: 13 | N10: 14
A11: 1 | B11: Освіта і наука | C11: X | D11: X | E11: X | F11: Відділ освіти, культури, молоді та спорту Великокучурівської сільської ради Чернівецького району Чернівецької області | G11: X | H11: X | I11: 320455 | J11: 320455 | K11: 0 | L11: 0 | M11: 0 | N11: 0
A12: 1.1 | B12: Будівництво укриття на 450 осіб з господарськими будівлями для Тисовецького ЗЗСО | C12: 081225-F9030688 | D12: X | E12: X | F12: Відділ освіти, культури, молоді та спорту Великокучурівської сільської ради Чернівецького району Чернівецької області | G12: 2026-2027 | I12: 320455 | J12: 320455 | K12: 0 | L12: 0 | M12: 0 | N12: 0
A13: X | B13: X | C13: X | D13: 0611300 | E13: Підготовка та реалізація публічних інвестиційних проектів / програм публічних інвестицій за рахунок коштів місцевого бюджету в галузі освіти | F13: Відділ освіти, культури, молоді та спорту Великокучурівської сільської ради Чернівецького району Чернівецької області | G13: X | H13: X | I13: 320455 | J13: 320455 | K13: 0 | L13: 0 | M13: 0 | N13: 0
A14: 2 | B14: Освіта і наука | C14: X | D14: X | E14: X | F14: Фінансовий відділ Великокучурівської сільської ради Чернівецького району Чернівецької області | G14: X | H14: X | I14: 960000 | J14: 960000 | K14: 0 | L14: 0 | M14: 0 | N14: 0
A15: 2.1 | B15: Придбання шкільного автобуса для перевезення учасників освітнього процесу | C15: 041025-3A1C0A33 | D15: X | E15: X | F15: Фінансовий відділ Великокучурівської сільської ради Чернівецького району Чернівецької області | G15: 2026 | I15: 960000 | J15: 960000 | K15: 0 | L15: 0 | M15: 0 | N15: 0
A16: X | B16: X | C16: X | D16: 3719720 | E16: Субвенція з місцевого бюджету на підготовку та реалізацію публічних інвестиційних проектів / програм публічних інвестицій | F16: Фінансовий відділ Великокучурівської сільської ради Чернівецького району Чернівецької області | G16: X | H16: X | I16: 960000 | J16: 960000 | K16: 0 | L16: 0 | M16: 0 | N16: 0
A17: X | B17: X | C17: X | D17: X | E17: X | F17: X | G17: X | H17: УСЬОГО | I17: 1280455 | J17: 1280455 | K17: 0 | L17: 0 | M17: 0 | N17: 0
B20: Начальник фінансового відділу Ганна ДОМІТРЮК

Sheet Дод.6 
G1: Додаток 4
J2: ='Дод 1'!F2 -> до рішення XХХХХVІ сесії Великокучурівської сільської ради VIІI скликання від 06.05.2026р. № 93-56/2026
J3: ='Дод 1'!F3 -> "Про внесення змін до бюджету Великокучурівської сільської територіальної громади на 2026 рік"
B5: Розподіл витрат місцевого бюджету на реалізацію місцевих/регіональних програм у 2025 році
A6: 24502000000
A7: (код бюджету) | J7: (грн.)
A8: Код Програмної класифікації видатків та кредитування місцевого бюджету | B8: Код Типової програмної класифікації видатків та кредитування місцевого бюджету | C8: Код Функціональної класифікації видатків та кредитування бюджету | D8: Найменування головного розпорядника коштів місцевого бюджету/ відповідального виконавця, найменування бюджетної програми згідно з Типовою програмною класифікацією видатків та кредитування місцевого бюджету | E8: Найменування місцевої/ регіональної програми | F8: Дата та номер документа, яким затверджено місцеву регіональну програму | G8: Усього | H8: Загальний фонд | I8: Спеціальний фонд
I9: усього | J9: у тому числі бюджет розвитку
A10: 1 | B10: 2 | C10: 3 | D10: 4 | E10: 5 | F10: 6 | G10: 7 | H10: 8 | I10: 9 | J10: 10
A11: 0100000 | D11: Великокучурiвська сiльська рада | G11: 17567427 | H11: 17485289 | I11: 82138.13 | J11: 0
A12: 0110000 | D12: Великокучурiвська сiльська рада | G12: 17567427 | H12: 17485289 | I12: 82138.13 | J12: 0
A13: 0110180 | B13: 0180 | C13: 0133 | D13: Інша діяльність у сфері державного управління | E13: Програма фінансового забезпечення представницьких витрат, пов'язаних із діяльністю Великокучурівської сільської ради та її виконавчих органів на 2025-2027 роки | F13: Рішення ХХХІХ сесії VІІІ скликання від 02.10.2024 №232-39/2024 | G13: 195000 | H13: 195000 | I13: 0 | J13: 0
A14: 0112113 | B14: 2113 | C14: 0721 | D14: Первинна медична допомога населенню, що надається амбулаторно-поліклінічними закладами (відділеннями) | E14: Програма фінансової підтримки Комунального некомерційного підприємства Великокучурівська Амбулаторія загальної практики сімейної медицини Великокучурівської сільської ради Чернівецького району Чернівецької області на 2025-2027 роки | F14: Рішення ХХХІХ сесії VІІІ скликання від 02.10.2024 №233-39/2024 | G14: 740000 | H14: 740000 | I14: 0 | J14: 0
A15: 0113032 | B15: 3032 | C15: 1070 | D15: Надання пільг окремим категоріям громадян з оплати послуг зв`язку | E15: Програма соціального захисту населення Великокучурівської сільської територіальної громади на 2025-2027 роки | F15: Рішення ХХХІХ сесії VІІІ скликання від 02.10.2024 №231-39/2024 | G15: 2000 | H15: 2000 | I15: 0 | J15: 0
A16: 0113033 | B16: 3033 | C16: 1070 | D16: Компенсаційні виплати на пільговий проїзд автомобільним транспортом окремим категоріям громадян | E16: Програма соціального захисту населення Великокучурівської сільської територіальної громади на 2025-2027 роки | F16: Рішення ХХХІХ сесії VІІІ скликання від 02.10.2024 №231-39/2024 | G16: 240000 | H16: 240000 | I16: 0 | J16: 0
A17: 0113035 | B17: 3035 | C17: 1070 | D17: Компенсаційні виплати за пільговий проїзд окремих категорій громадян на залізничному транспорті | E17: Програма соціального захисту населення Великокучурівської сільської територіальної громади на 2025-2027 роки | F17: Рішення ХХХІХ сесії VІІІ скликання від 02.10.2024 №231-39/2024 | G17: 14800 | H17: 14800 | I17: 0 | J17: 0
A18: 0113112 | B18: 3112 | C18: 1040 | D18: Заходи державної політики з питань дітей та їх соціального захисту | E18: Комплексна програма захисту прав дітей у Великокучурівській територіальній громаді Чернівецького району Чернівецької області на 2025-2027 роки | F18: Рішення ХХХХІV сесії VІІІ скликання від 19.12.2024 № 353-44/2024 | G18: 50000 | H18: 50000 | I18: 0 | J18: 0
A19: 0113114 | B19: 3114 | C19: 1040 | D19: Забезпечення умов для догляду та виховання дітей і молоді в дитячих будинках сімейного типу, прийомних сім`ях та сім`ях патронатних вихователів | E19: Комплексна програма захисту прав дітей у Великокучурівській територіальній громаді Чернівецького району Чернівецької області на 2025-2027 роки | F19: Рішення ХХХХІV сесії VІІІ скликання від 19.12.2024 № 353-44/2024 | G19: 50000 | H19: 50000 | I19: 0 | J19: 0
A20: 0113160 | B20: 3160 | C20: 1010 | D20: Надання соціальних гарантій фізичним особам, які надають соціальні послуги громадянам похилого віку, особам з інвалідністю, дітям з інвалідністю, хворим, які не здатні до самообслуговування і потребують сторонньої допомоги | E20: Програма соціального захисту населення Великокучурівської сільської територіальної громади на 2025-2027 роки | F20: Рішення ХХХІХ сесії VІІІ скликання від 02.10.2024 №231-39/2024 | G20: 120000 | H20: 120000 | I20: 0 | J20: 0
A21: 0113191 | B21: 3191 | C21: 1030 | D21: Інші видатки на соціальний захист ветеранів війни та праці | E21: Програма матеріальної підтримки військовослужбовців Великокучурівської сільської територіальної громади на 2026 рік | F21: рішення ХХХХХІV сесії VІІІ скликання від 22.12.2025 № -54/2025 | G21: 600000 | H21: 600000 | I21: 0 | J21: 0
A22: 0113230 | B22: 3230 | C22: 1070 | D22: Видатки, пов`язані з наданням підтримки внутрішньо перемішеним та/або евакуйованим особам у зв`язку із введенням воєнного стану | E22: Програма соціальної підтримки та інтеграції внутрішньопереміщених осіб на території Великокучурівської сільської територіальної громади на 2025-2026 роки | F22: рішення ХХХХІХ сесії VІІ скликання № 100-49/2025 від 13.06.2025 | G22: 2400 | H22: 2400 | I22: 0 | J22: 0
A23: 0113242 | B23: 3242 | C23: 1090 | D23: Інші заходи та заклади у сфері соціального захисту і соціального забезпечення | E23: Програма соціального захисту населення Великокучурівської сільської територіальної громади на 2025-2027 роки | F23: Рішення ХХХІХ сесії VІІІ скликання від 02.10.2024 №231-39/2024 | G23: 110000 | H23: 110000 | I23: 0 | J23: 0
A24: 0113242 | B24: 3242 | C24: 1090 | D24: Інші заходи та заклади у сфері соціального захисту і соціального забезпечення | E24: Програма вшанування пам’яті учасників бойових дій, які загинули (померли) під час проходження служби в районі проведення антитерористичної операції/операції об’єднаних сил допомоги та під час дії воєнного стану в Україні та підтримки їхніх сімей на 2026-2027 роки | F24: рішення ХХХХХІV сесії VІІІ скликання № -54/2025 від 22.12.2025 | G24: 2170000 | H24: 2170000 | I24: 0 | J24: 0
... A32: 0118240 | B32: 8240 | C32: 0380 | D32: Заходи та роботи з територіальної оборони | E32: Програма підвищення рівня безпеки життя мешканців Великокучурівської сільської територіальної громади на 2026-2027 роки | F32: рішення ХХХХХІV сесії VІІІ скликання №-54/2025 від 22.12.2025 | G32: 250000 | H32: 250000 | I32: 0 | J32: 0
A33: 0600000 | D33: Відділ освіти, культури, молоді та спорту Великокучурівської сільської ради Чернівецького району Чернівецької області | G33: 250000 | H33: 250000 | I33: 0 | J33: 0
A34: 0610000 | D34: Відділ освіти, культури, молоді та спорту Великокучурівської сільської ради Чернівецького району Чернівецької області | G34: 250000 | H34: 250000 | I34: 0 | J34: 0
A35: 0613230 | B35: 3230 | C35: 1070 | D35: Видатки, пов`язані з наданням підтримки внутрішньо перемішеним та/або евакуйованим особам у зв`язку із введенням воєнного стану | E35: Програма соціальної підтримки та інтеграції внутрішньопереміщених осіб на території Великокучурівської сільської територіальної громади на 2025-2026 роки | F35: рішення ХХХХІХ сесії VІІ скликання № 100-49/2025 від 13.06.2025 | G35: 200000 | H35: 200000 | I35: 0 | J35: 0
A36: 0615031 | B36: 5031 | C36: 0810 | D36: Розвиток здібностей у дітей та молоді з фізичної культури та спорту комунальними дитячо- юнацькими спортивними школами | E36: Програма розвитку фізичної культури і спорту Великокучурівської сільської територіальної громади на 2025-2027 роки | F36: Рішення ХХХІХ сесії VІІІ скликання від 02.10.2024 № 234-39/2024 | G36: 50000 | H36: 50000 | I36: 0 | J36: 0
A37: 3700000 | D37: Фінансовий відділ Великокучурівської сільської ради Чернівецького району Чернівецької області | G37: 2285000 | H37: 2285000 | I37: 0 | J37: 0
A38: 3710000 | D38: Фінансовий відділ Великокучурівської сільської ради Чернівецького району Чернівецької області | G38: 2285000 | H38: 2285000 | I38: 0 | J38: 0
A39: 3719730 | B39: 9730 | C39: 0180 | D39: Субвенція з місцевого бюджету на фінансове забезпечення будівництва, реконструкції, ремонту і утримання автомобільних доріг загального користування місцевого значення, вулиць і доріг комунальної власності у населених пунктах | E39: Програма утримання та розвитку дорожньої інфраструктури Великокучурівської сільської територіальної громади на 2025 – 2027 роки | F39: Рішення ХХХХІV сесії VІІІ скликання від 19.12.2024 № 350-44/2024 | G39: 1000000 | H39: 1000000 | I39: 0 | J39: 0
A40: 3719770 | B40: 9770 | C40: 0180 | D40: Інші субвенції з місцевого бюджету | E40: Програми підтримки закладів охорони здоров’я, які проводять лікування жителів громади та осіб, що постраждали в наслідок збройної агресії Російської Федерації проти України на 2026 рік | F40: рішення XXXXXV сесії VІІІ скликання №38-55/2026 від 27.02.2026 | G40: 150000 | H40: 150000 | I40: 0 | J40: 0
A41: 3719770 | B41: 9770 | C41: 0180 | D41: Інші субвенції з місцевого бюджету | E41: Програми підтримки військових частин, військових формувань та установ Збройних Сил України, Національної гвардії України, Державної прикордонної служби України й інших формувань залучених до забезпечення національної безпеки та оборони на 2025-2027 роки | F41: рішення XХХХХIІІ сесії VІІІ скликання №261-53/2025 від 05.12.2025 року | G41: 200000 | H41: 200000 | I41: 0 | J41: 0
A42: 3719800 | B42: 9800 | C42: 0180 | D42: Субвенція з місцевого бюджету державному бюджету на виконання програм соціально-економічного розвитку регіонів | E42: Програми підтримки закладів охорони здоров’я, які проводять лікування жителів громади та осіб, що постраждали в наслідок збройної агресії Російської Федерації проти України на 2026 рік | F42: рішення XXXXXV сесії VІІІ скликання №38-55/2026 від 27.02.2026 | G42: 100000 | H42: 100000 | I42: 0 | J42: 0
A43: 3719800 | B43: 9800 | C43: 0180 | D43: Субвенція з місцевого бюджету державному бюджету на виконання програм соціально-економічного розвитку регіонів | E43: Програми підтримки військових частин, військових формувань та установ Збройних Сил України, Національної гвардії України, Державної прикордонної служби України й інших формувань залучених до забезпечення національної безпеки та оборони на 2025-2027 роки | F43: рішення XХХХХIІІ сесії VІІІ скликання №261-53/2025 від 05.12.2025 року | G43: 800000 | H43: 800000 | I43: 0 | J43: 0
A44: 3719800 | B44: 9800 | C44: 0180 | D44: Субвенція з місцевого бюджету державному бюджету на виконання програм соціально-економічного розвитку регіонів | E44: Програма підвищення рівня безпеки життя мешканців Великокучурівської сільської територіальної громади на 2026-2027 роки | F44: рішення ХХХХХIV сесії VІІІ скликання від 22.12.2025 № 286-54/2025 | G44: 35000 | H44: 35000 | I44: 0 | J44: 0
A45: X | B45: X | C45: X | D45: УСЬОГО | E45: X | F45: X | G45: 20102427 | H45: 20020289 | I45: 82138.13 | J45: 0
C47: Начальник фінансового відділу Ганна ДОМІТРЮК

Sheet дод 4 (2)
C1: ВИТЯГ Додаток №4
D2: =дод3!O2 -> до рішення XХХХХVІ сесії Великокучурівської сільської ради VIІI скликання від 06.05.2026р. № 93-56/2026
D3: =дод3!O3 -> "Про внесення змін до бюджету Великокучурівської сільської територіальної громади на 2026 рік"
A6: Міжбюджетні трансферти на 2026 рік
A7: 24502000000
A8: (код бюджету)
A9: 1. Показники міжбюджетних трансфертів з інших бюджетів
D10: (грн)
A11: Код Класифікації доходу бюджету/ Код бюджету | B11: Найменування трансферту/ Найменування бюджету – надавача міжбюджетного трансферту | D11: Усього
A12: 1 | B12: 2 | D12: 3
A13: І. Трансферти до загального фонду бюджету
A14: 41020100 | B14: Базова дотація
A15: 9900000000 | B15: Державний бюджет
A16: 41032800 | B16: Субвенція з державного бюджету місцевим бюджетам на реалізацію публічного інвестиційного проекту на облаштування безпечних умов у закладах, що надають загальну середню освіту (облаштування укриттів), зокрема військових (військово- морських, військово-спортивних) ліцеях, ліцеях із посиленою військово-фізичною підготовкою
A17: 9900000000 | B17: Державний бюджет
A18: 41033900 | B18: Освітня субвенція з державного бюджету місцевим бюджетам
A19: 9900000000 | B19: Державний бюджет
A20: 41035400 | B20: Субвенція з державного бюджету місцевим бюджетам на надання державної підтримки особам з особливими освітніми потребами
A21: 9900000000 | B21: Державний бюджет
A22: 41036000 | B22: Субвенція з державного бюджету місцевим бюджетам на реалізацію публічного інвестиційного проекту на забезпечення якісної, сучасної та доступної загальної середньої освіти `Нова українська школа`
A23: 9900000000 | B23: Державний бюджет
A24: 41036300 | B24: Субвенція з державного бюджету місцевим бюджетам на здійснення доплат педагогічним працівникам закладів загальної середньої освіти
A25: 9900000000 | B25: Державний бюджет
... A31: 2410000000 | B31: Обласний бюджет Чернівецької області
A32: ІІ. Трансферти до спеціального фонду бюджету
A33: 41020100 | B33: Базова дотація | D33: 0
A34: 9900000000 | B34: Державний бюджет | D34: 0
A35: 41032800 | B35: Субвенція з державного бюджету місцевим бюджетам на реалізацію публічного інвестиційного проекту на облаштування безпечних умов у закладах, що надають загальну середню освіту (облаштування укриттів), зокрема військових (військово- морських, військово-спортивних) ліцеях, ліцеях із посиленою військово-фізичною підготовкою | D35: 0
A36: 9900000000 | B36: Державний бюджет | D36: 0
A37: 41033900 | B37: Освітня субвенція з державного бюджету місцевим бюджетам | D37: =D38 -> 0
A38: 9900000000 | B38: Державний бюджет
A39: 41035400 | B39: Субвенція з державного бюджету місцевим бюджетам на надання державної підтримки особам з особливими освітніми потребами | D39: 0
A40: 9900000000 | B40: Державний бюджет | D40: 0
A41: 41036000 | B41: Субвенція з державного бюджету місцевим бюджетам на реалізацію публічного інвестиційного проекту на забезпечення якісної, сучасної та доступної загальної середньої освіти `Нова українська школа` | D41: 0
A42: 9900000000 | B42: Державний бюджет | D42: 0
A43: 41036300 | B43: Субвенція з державного бюджету місцевим бюджетам на здійснення доплат педагогічним працівникам закладів загальної середньої освіти | D43: 0
A44: 9900000000 | B44: Державний бюджет | D44: 0
A45: 41040400 | B45: Інші дотації з місцевого бюджету | D45: 0
A46: 2410000000 | B46: Обласний бюджет Чернівецької області | D46: 0
A47: 41050100 | B47: Субвенція з місцевого бюджету на реалізацію публічного інвестиційного проекту із забезпечення житлом дитячих будинків сімейного типу, дітей-сиріт та дітей, позбавлених батьківського піклування, за рахунок відповідної субвенції з державного бюджету | D47: 0
...

Sheet дод 4 (3)
C1: ВИТЯГ Додаток №4
D2: =дод3!O2 -> до рішення XХХХХVІ сесії Великокучурівської сільської ради VIІI скликання від 06.05.2026р. № 93-56/2026
D3: =дод3!O3 -> "Про внесення змін до бюджету Великокучурівської сільської територіальної громади на 2026 рік"
A6: Міжбюджетні трансферти на 2026 рік
A7: 24502000000
A8: (код бюджету)
A9: 1. Показники міжбюджетних трансфертів з інших бюджетів
D10: (грн)
A11: Код Класифікації доходу бюджету/ Код бюджету | B11: Найменування трансферту/ Найменування бюджету – надавача міжбюджетного трансферту | D11: Усього
A12: 1 | B12: 2 | D12: 3
A13: І. Трансферти до загального фонду бюджету
A14: 41020100 | B14: Базова дотація
A15: 9900000000 | B15: Державний бюджет
A16: 41032800 | B16: Субвенція з державного бюджету місцевим бюджетам на реалізацію публічного інвестиційного проекту на облаштування безпечних умов у закладах, що надають загальну середню освіту (облаштування укриттів), зокрема військових (військово- морських, військово-спортивних) ліцеях, ліцеях із посиленою військово-фізичною підготовкою
A17: 9900000000 | B17: Державний бюджет
A18: 41033900 | B18: Освітня субвенція з державного бюджету місцевим бюджетам
A19: 9900000000 | B19: Державний бюджет
A20: 41035400 | B20: Субвенція з державного бюджету місцевим бюджетам на надання державної підтримки особам з особливими освітніми потребами
A21: 9900000000 | B21: Державний бюджет
A22: 41036000 | B22: Субвенція з державного бюджету місцевим бюджетам на реалізацію публічного інвестиційного проекту на забезпечення якісної, сучасної та доступної загальної середньої освіти `Нова українська школа`
A23: 9900000000 | B23: Державний бюджет
A24: 41036300 | B24: Субвенція з державного бюджету місцевим бюджетам на здійснення доплат педагогічним працівникам закладів загальної середньої освіти
A25: 9900000000 | B25: Державний бюджет
... A31: 2410000000 | B31: Обласний бюджет Чернівецької області
A32: ІІ. Трансферти до спеціального фонду бюджету
A33: 41020100 | B33: Базова дотація | D33: 0
A34: 9900000000 | B34: Державний бюджет | D34: 0
A35: 41032800 | B35: Субвенція з державного бюджету місцевим бюджетам на реалізацію публічного інвестиційного проекту на облаштування безпечних умов у закладах, що надають загальну середню освіту (облаштування укриттів), зокрема військових (військово- морських, військово-спортивних) ліцеях, ліцеях із посиленою військово-фізичною підготовкою | D35: 0
A36: 9900000000 | B36: Державний бюджет | D36: 0
A37: 41033900 | B37: Освітня субвенція з державного бюджету місцевим бюджетам | D37: =D38 -> 0
A38: 9900000000 | B38: Державний бюджет
A39: 41035400 | B39: Субвенція з державного бюджету місцевим бюджетам на надання державної підтримки особам з особливими освітніми потребами | D39: 0
A40: 9900000000 | B40: Державний бюджет | D40: 0
A41: 41036000 | B41: Субвенція з державного бюджету місцевим бюджетам на реалізацію публічного інвестиційного проекту на забезпечення якісної, сучасної та доступної загальної середньої освіти `Нова українська школа` | D41: 0
A42: 9900000000 | B42: Державний бюджет | D42: 0
A43: 41036300 | B43: Субвенція з державного бюджету місцевим бюджетам на здійснення доплат педагогічним працівникам закладів загальної середньої освіти | D43: 0
A44: 9900000000 | B44: Державний бюджет | D44: 0
A45: 41040400 | B45: Інші дотації з місцевого бюджету | D45: 0
A46: 2410000000 | B46: Обласний бюджет Чернівецької області | D46: 0
A47: 41050100 | B47: Субвенція з місцевого бюджету на реалізацію публічного інвестиційного проекту із забезпечення житлом дитячих будинків сімейного типу, дітей-сиріт та дітей, позбавлених батьківського піклування, за рахунок відповідної субвенції з державного бюджету | D47: 0
...

Sheet дод 4 (4)
C1: ВИТЯГ Додаток №4
D2: =дод3!O2 -> до рішення XХХХХVІ сесії Великокучурівської сільської ради VIІI скликання від 06.05.2026р. № 93-56/2026
D3: =дод3!O3 -> "Про внесення змін до бюджету Великокучурівської сільської територіальної громади на 2026 рік"
A6: Міжбюджетні трансферти на 2026 рік
A7: 2450200000
A8: (код бюджету)
A9: 1. Показники міжбюджетних трансфертів з інших бюджетів
D10: (грн)
A11: Код Класифікації доходу бюджету/ Код бюджету | B11: Найменування трансферту/ Найменування бюджету – надавача міжбюджетного трансферту | D11: Усього
A12: 1 | B12: 2 | D12: 3
A13: І. Трансферти до загального фонду бюджету
A14: 41020100 | B14: Базова дотація
A15: 9900000000 | B15: Державний бюджет
A16: 41032800 | B16: Субвенція з державного бюджету місцевим бюджетам на реалізацію публічного інвестиційного проекту на облаштування безпечних умов у закладах, що надають загальну середню освіту (облаштування укриттів), зокрема військових (військово- морських, військово-спортивних) ліцеях, ліцеях із посиленою військово-фізичною підготовкою
A17: 9900000000 | B17: Державний бюджет
A18: 41033900 | B18: Освітня субвенція з державного бюджету місцевим бюджетам
A19: 9900000000 | B19: Державний бюджет
A20: 41035400 | B20: Субвенція з державного бюджету місцевим бюджетам на надання державної підтримки особам з особливими освітніми потребами
A21: 9900000000 | B21: Державний бюджет
A22: 41036000 | B22: Субвенція з державного бюджету місцевим бюджетам на реалізацію публічного інвестиційного проекту на забезпечення якісної, сучасної та доступної загальної середньої освіти `Нова українська школа`
A23: 9900000000 | B23: Державний бюджет
A24: 41036300 | B24: Субвенція з державного бюджету місцевим бюджетам на здійснення доплат педагогічним працівникам закладів загальної середньої освіти
A25: 9900000000 | B25: Державний бюджет
... A31: 2410000000 | B31: Обласний бюджет Чернівецької області
A32: ІІ. Трансферти до спеціального фонду бюджету
A33: 41020100 | B33: Базова дотація | D33: 0
A34: 9900000000 | B34: Державний бюджет | D34: 0
A35: 41032800 | B35: Субвенція з державного бюджету місцевим бюджетам на реалізацію публічного інвестиційного проекту на облаштування безпечних умов у закладах, що надають загальну середню освіту (облаштування укриттів), зокрема військових (військово- морських, військово-спортивних) ліцеях, ліцеях із посиленою військово-фізичною підготовкою | D35: 0
A36: 9900000000 | B36: Державний бюджет | D36: 0
A37: 41033900 | B37: Освітня субвенція з державного бюджету місцевим бюджетам | D37: =D38 -> 0
A38: 9900000000 | B38: Державний бюджет
A39: 41035400 | B39: Субвенція з державного бюджету місцевим бюджетам на надання державної підтримки особам з особливими освітніми потребами | D39: 0
A40: 9900000000 | B40: Державний бюджет | D40: 0
A41: 41036000 | B41: Субвенція з державного бюджету місцевим бюджетам на реалізацію публічного інвестиційного проекту на забезпечення якісної, сучасної та доступної загальної середньої освіти `Нова українська школа` | D41: 0
A42: 9900000000 | B42: Державний бюджет | D42: 0
A43: 41036300 | B43: Субвенція з державного бюджету місцевим бюджетам на здійснення доплат педагогічним працівникам закладів загальної середньої освіти | D43: 0
A44: 9900000000 | B44: Державний бюджет | D44: 0
A45: 41040400 | B45: Інші дотації з місцевого бюджету | D45: 0
A46: 2410000000 | B46: Обласний бюджет Чернівецької області | D46: 0
A47: 41050100 | B47: Субвенція з місцевого бюджету на реалізацію публічного інвестиційного проекту із забезпечення житлом дитячих будинків сімейного типу, дітей-сиріт та дітей, позбавлених батьківського піклування, за рахунок відповідної субвенції з державного бюджету | D47: 0
...

Sheet дод 4 (5)
C1: ВИТЯГ Додаток №4
D2: =дод3!O2 -> до рішення XХХХХVІ сесії Великокучурівської сільської ради VIІI скликання від 06.05.2026р. № 93-56/2026
D3: =дод3!O3 -> "Про внесення змін до бюджету Великокучурівської сільської територіальної громади на 2026 рік"
A6: Міжбюджетні трансферти на 2026 рік
A7: 2450200000
A8: (код бюджету)
A9: 1. Показники міжбюджетних трансфертів з інших бюджетів
D10: (грн)
A11: Код Класифікації доходу бюджету/ Код бюджету | B11: Найменування трансферту/ Найменування бюджету – надавача міжбюджетного трансферту | D11: Усього
A12: 1 | B12: 2 | D12: 3
A13: І. Трансферти до загального фонду бюджету
A14: 41020100 | B14: Базова дотація
A15: 9900000000 | B15: Державний бюджет
A16: 41032800 | B16: Субвенція з державного бюджету місцевим бюджетам на реалізацію публічного інвестиційного проекту на облаштування безпечних умов у закладах, що надають загальну середню освіту (облаштування укриттів), зокрема військових (військово- морських, військово-спортивних) ліцеях, ліцеях із посиленою військово-фізичною підготовкою
A17: 9900000000 | B17: Державний бюджет
A18: 41033900 | B18: Освітня субвенція з державного бюджету місцевим бюджетам
A19: 9900000000 | B19: Державний бюджет
A20: 41035400 | B20: Субвенція з державного бюджету місцевим бюджетам на надання державної підтримки особам з особливими освітніми потребами
A21: 9900000000 | B21: Державний бюджет
A22: 41036000 | B22: Субвенція з державного бюджету місцевим бюджетам на реалізацію публічного інвестиційного проекту на забезпечення якісної, сучасної та доступної загальної середньої освіти `Нова українська школа`
A23: 9900000000 | B23: Державний бюджет
A24: 41036300 | B24: Субвенція з державного бюджету місцевим бюджетам на здійснення доплат педагогічним працівникам закладів загальної середньої освіти
A25: 9900000000 | B25: Державний бюджет
... A31: 2410000000 | B31: Обласний бюджет Чернівецької області
A32: ІІ. Трансферти до спеціального фонду бюджету
A33: 41020100 | B33: Базова дотація | D33: 0
A34: 9900000000 | B34: Державний бюджет | D34: 0
A35: 41032800 | B35: Субвенція з державного бюджету місцевим бюджетам на реалізацію публічного інвестиційного проекту на облаштування безпечних умов у закладах, що надають загальну середню освіту (облаштування укриттів), зокрема військових (військово- морських, військово-спортивних) ліцеях, ліцеях із посиленою військово-фізичною підготовкою | D35: 0
A36: 9900000000 | B36: Державний бюджет | D36: 0
A37: 41033900 | B37: Освітня субвенція з державного бюджету місцевим бюджетам | D37: =D38 -> 0
A38: 9900000000 | B38: Державний бюджет
A39: 41035400 | B39: Субвенція з державного бюджету місцевим бюджетам на надання державної підтримки особам з особливими освітніми потребами | D39: 0
A40: 9900000000 | B40: Державний бюджет | D40: 0
A41: 41036000 | B41: Субвенція з державного бюджету місцевим бюджетам на реалізацію публічного інвестиційного проекту на забезпечення якісної, сучасної та доступної загальної середньої освіти `Нова українська школа` | D41: 0
A42: 9900000000 | B42: Державний бюджет | D42: 0
A43: 41036300 | B43: Субвенція з державного бюджету місцевим бюджетам на здійснення доплат педагогічним працівникам закладів загальної середньої освіти | D43: 0
A44: 9900000000 | B44: Державний бюджет | D44: 0
A45: 41040400 | B45: Інші дотації з місцевого бюджету | D45: 0
A46: 2410000000 | B46: Обласний бюджет Чернівецької області | D46: 0
A47: 41050100 | B47: Субвенція з місцевого бюджету на реалізацію публічного інвестиційного проекту із забезпечення житлом дитячих будинків сімейного типу, дітей-сиріт та дітей, позбавлених батьківського піклування, за рахунок відповідної субвенції з державного бюджету | D47: 0
...

Sheet дод 4 (6)
C1: ВИТЯГ Додаток №4
D2: =дод3!O2 -> до рішення XХХХХVІ сесії Великокучурівської сільської ради VIІI скликання від 06.05.2026р. № 93-56/2026
D3: =дод3!O3 -> "Про внесення змін до бюджету Великокучурівської сільської територіальної громади на 2026 рік"
A6: Міжбюджетні трансферти на 2026 рік
A7: 2450200000
A8: (код бюджету)
A9: 1. Показники міжбюджетних трансфертів з інших бюджетів
D10: (грн)
A11: Код Класифікації доходу бюджету/ Код бюджету | B11: Найменування трансферту/ Найменування бюджету – надавача міжбюджетного трансферту | D11: Усього
A12: 1 | B12: 2 | D12: 3
A13: І. Трансферти до загального фонду бюджету
A14: 41020100 | B14: Базова дотація
A15: 9900000000 | B15: Державний бюджет
A16: 41032800 | B16: Субвенція з державного бюджету місцевим бюджетам на реалізацію публічного інвестиційного проекту на облаштування безпечних умов у закладах, що надають загальну середню освіту (облаштування укриттів), зокрема військових (військово- морських, військово-спортивних) ліцеях, ліцеях із посиленою військово-фізичною підготовкою
A17: 9900000000 | B17: Державний бюджет
A18: 41033900 | B18: Освітня субвенція з державного бюджету місцевим бюджетам
A19: 9900000000 | B19: Державний бюджет
A20: 41035400 | B20: Субвенція з державного бюджету місцевим бюджетам на надання державної підтримки особам з особливими освітніми потребами
A21: 9900000000 | B21: Державний бюджет
A22: 41036000 | B22: Субвенція з державного бюджету місцевим бюджетам на реалізацію публічного інвестиційного проекту на забезпечення якісної, сучасної та доступної загальної середньої освіти `Нова українська школа`
A23: 9900000000 | B23: Державний бюджет
A24: 41036300 | B24: Субвенція з державного бюджету місцевим бюджетам на здійснення доплат педагогічним працівникам закладів загальної середньої освіти
A25: 9900000000 | B25: Державний бюджет
... A31: 2410000000 | B31: Обласний бюджет Чернівецької області
A32: ІІ. Трансферти до спеціального фонду бюджету
A33: 41020100 | B33: Базова дотація | D33: 0
A34: 9900000000 | B34: Державний бюджет | D34: 0
A35: 41032800 | B35: Субвенція з державного бюджету місцевим бюджетам на реалізацію публічного інвестиційного проекту на облаштування безпечних умов у закладах, що надають загальну середню освіту (облаштування укриттів), зокрема військових (військово- морських, військово-спортивних) ліцеях, ліцеях із посиленою військово-фізичною підготовкою | D35: 0
A36: 9900000000 | B36: Державний бюджет | D36: 0
A37: 41033900 | B37: Освітня субвенція з державного бюджету місцевим бюджетам | D37: =D38 -> 0
A38: 9900000000 | B38: Державний бюджет
A39: 41035400 | B39: Субвенція з державного бюджету місцевим бюджетам на надання державної підтримки особам з особливими освітніми потребами | D39: 0
A40: 9900000000 | B40: Державний бюджет | D40: 0
A41: 41036000 | B41: Субвенція з державного бюджету місцевим бюджетам на реалізацію публічного інвестиційного проекту на забезпечення якісної, сучасної та доступної загальної середньої освіти `Нова українська школа` | D41: 0
A42: 9900000000 | B42: Державний бюджет | D42: 0
A43: 41036300 | B43: Субвенція з державного бюджету місцевим бюджетам на здійснення доплат педагогічним працівникам закладів загальної середньої освіти | D43: 0
A44: 9900000000 | B44: Державний бюджет | D44: 0
A45: 41040400 | B45: Інші дотації з місцевого бюджету | D45: 0
A46: 2410000000 | B46: Обласний бюджет Чернівецької області | D46: 0
A47: 41050100 | B47: Субвенція з місцевого бюджету на реалізацію публічного інвестиційного проекту із забезпечення житлом дитячих будинків сімейного типу, дітей-сиріт та дітей, позбавлених батьківського піклування, за рахунок відповідної субвенції з державного бюджету | D47: 0
...

Sheet дод 4 (7)
C1: ВИТЯГ Додаток №4
D2: =дод3!O2 -> до рішення XХХХХVІ сесії Великокучурівської сільської ради VIІI скликання від 06.05.2026р. № 93-56/2026
D3: =дод3!O3 -> "Про внесення змін до бюджету Великокучурівської сільської територіальної громади на 2026 рік"
A6: Міжбюджетні трансферти на 2026 рік
A7: 2450200000
A8: (код бюджету)
A9: 1. Показники міжбюджетних трансфертів з інших бюджетів
D10: (грн)
A11: Код Класифікації доходу бюджету/ Код бюджету | B11: Найменування трансферту/ Найменування бюджету – надавача міжбюджетного трансферту | D11: Усього
A12: 1 | B12: 2 | D12: 3
A13: І. Трансферти до загального фонду бюджету
A14: 41020100 | B14: Базова дотація
A15: 9900000000 | B15: Державний бюджет
A16: 41032800 | B16: Субвенція з державного бюджету місцевим бюджетам на реалізацію публічного інвестиційного проекту на облаштування безпечних умов у закладах, що надають загальну середню освіту (облаштування укриттів), зокрема військових (військово- морських, військово-спортивних) ліцеях, ліцеях із посиленою військово-фізичною підготовкою
A17: 9900000000 | B17: Державний бюджет
A18: 41033900 | B18: Освітня субвенція з державного бюджету місцевим бюджетам
A19: 9900000000 | B19: Державний бюджет
A20: 41035400 | B20: Субвенція з державного бюджету місцевим бюджетам на надання державної підтримки особам з особливими освітніми потребами
A21: 9900000000 | B21: Державний бюджет
A22: 41036000 | B22: Субвенція з державного бюджету місцевим бюджетам на реалізацію публічного інвестиційного проекту на забезпечення якісної, сучасної та доступної загальної середньої освіти `Нова українська школа`
A23: 9900000000 | B23: Державний бюджет
A24: 41036300 | B24: Субвенція з державного бюджету місцевим бюджетам на здійснення доплат педагогічним працівникам закладів загальної середньої освіти
A25: 9900000000 | B25: Державний бюджет
... A31: 2410000000 | B31: Обласний бюджет Чернівецької області
A32: ІІ. Трансферти до спеціального фонду бюджету
A33: 41020100 | B33: Базова дотація | D33: 0
A34: 9900000000 | B34: Державний бюджет | D34: 0
A35: 41032800 | B35: Субвенція з державного бюджету місцевим бюджетам на реалізацію публічного інвестиційного проекту на облаштування безпечних умов у закладах, що надають загальну середню освіту (облаштування укриттів), зокрема військових (військово- морських, військово-спортивних) ліцеях, ліцеях із посиленою військово-фізичною підготовкою | D35: 0
A36: 9900000000 | B36: Державний бюджет | D36: 0
A37: 41033900 | B37: Освітня субвенція з державного бюджету місцевим бюджетам | D37: =D38 -> 0
A38: 9900000000 | B38: Державний бюджет
A39: 41035400 | B39: Субвенція з державного бюджету місцевим бюджетам на надання державної підтримки особам з особливими освітніми потребами | D39: 0
A40: 9900000000 | B40: Державний бюджет | D40: 0
A41: 41036000 | B41: Субвенція з державного бюджету місцевим бюджетам на реалізацію публічного інвестиційного проекту на забезпечення якісної, сучасної та доступної загальної середньої освіти `Нова українська школа` | D41: 0
A42: 9900000000 | B42: Державний бюджет | D42: 0
A43: 41036300 | B43: Субвенція з державного бюджету місцевим бюджетам на здійснення доплат педагогічним працівникам закладів загальної середньої освіти | D43: 0
A44: 9900000000 | B44: Державний бюджет | D44: 0
A45: 41040400 | B45: Інші дотації з місцевого бюджету | D45: 0
A46: 2410000000 | B46: Обласний бюджет Чернівецької області | D46: 0
A47: 41050100 | B47: Субвенція з місцевого бюджету на реалізацію публічного інвестиційного проекту із забезпечення житлом дитячих будинків сімейного типу, дітей-сиріт та дітей, позбавлених батьківського піклування, за рахунок відповідної субвенції з державного бюджету | D47: 0
...

Sheet дод 4 (8)
C1: ВИТЯГ Додаток №4
D2: =дод3!O2 -> до рішення XХХХХVІ сесії Великокучурівської сільської ради VIІI скликання від 06.05.2026р. № 93-56/2026
D3: =дод3!O3 -> "Про внесення змін до бюджету Великокучурівської сільської територіальної громади на 2026 рік"
A6: Міжбюджетні трансферти на 2026 рік
A7: 2450200000
A8: (код бюджету)
A9: 1. Показники міжбюджетних трансфертів з інших бюджетів
D10: (грн)
A11: Код Класифікації доходу бюджету/ Код бюджету | B11: Найменування трансферту/ Найменування бюджету – надавача міжбюджетного трансферту | D11: Усього
A12: 1 | B12: 2 | D12: 3
A13: І. Трансферти до загального фонду бюджету
A14: 41020100 | B14: Базова дотація
A15: 9900000000 | B15: Державний бюджет
A16: 41032800 | B16: Субвенція з державного бюджету місцевим бюджетам на реалізацію публічного інвестиційного проекту на облаштування безпечних умов у закладах, що надають загальну середню освіту (облаштування укриттів), зокрема військових (військово- морських, військово-спортивних) ліцеях, ліцеях із посиленою військово-фізичною підготовкою
A17: 9900000000 | B17: Державний бюджет
A18: 41033900 | B18: Освітня субвенція з державного бюджету місцевим бюджетам
A19: 9900000000 | B19: Державний бюджет
A20: 41035400 | B20: Субвенція з державного бюджету місцевим бюджетам на надання державної підтримки особам з особливими освітніми потребами
A21: 9900000000 | B21: Державний бюджет
A22: 41036000 | B22: Субвенція з державного бюджету місцевим бюджетам на реалізацію публічного інвестиційного проекту на забезпечення якісної, сучасної та доступної загальної середньої освіти `Нова українська школа`
A23: 9900000000 | B23: Державний бюджет
A24: 41036300 | B24: Субвенція з державного бюджету місцевим бюджетам на здійснення доплат педагогічним працівникам закладів загальної середньої освіти
A25: 9900000000 | B25: Державний бюджет
... A31: 2410000000 | B31: Обласний бюджет Чернівецької області
A32: ІІ. Трансферти до спеціального фонду бюджету
A33: 41020100 | B33: Базова дотація | D33: 0
A34: 9900000000 | B34: Державний бюджет | D34: 0
