Workbook
Name А1: #REF!
Name А1: #REF!

Sheet Дод 1
C1: Додаток № 1
F2: до рішення XХХХ сесії Великокучурівської сільської ради VIІI скликання від 18.10.2024 № 276-40/2024
F3: "Про внесення змін до бюджету Великокучурівської сільської територіальної громади на 2024 рік"
A5: ДОХОДИ_x000D_ місцевого бюджету на 2024 рік
A6: 2450200000
A7: (код бюджету) | F7: (грн)
A8: Код | B8: Найменування згідно з Класифікацією доходів бюджету | C8: Усього | D8: Загальний фонд | E8: Спеціальний фонд
E9: усього | F9: у тому числі бюджет розвитку
A11: 1 | B11: 2 | C11: 3 | D11: 4 | E11: 5 | F11: 6
A12: 10000000 | B12: Податкові надходження | C12: 431500 | D12: 431500 | E12: 0 | F12: 0
A13: 11000000 | B13: Податки на доходи, податки на прибуток, податки на збільшення ринкової вартості | C13: 431500 | D13: 431500 | E13: 0 | F13: 0
A14: 11010000 | B14: Податок та збір на доходи фізичних осіб | C14: 431500 | D14: 431500 | E14: 0 | F14: 0
A15: 11010400 | B15: Податок на доходи фізичних осіб, що сплачується податковими агентами, із доходів платника податку інших ніж заробітна плата | C15: 431500 | D15: 431500 | E15: 0 | F15: 0
B16: Усього доходів (без урахування міжбюджетних трансфертів) | C16: 431500 | D16: 431500 | E16: 0 | F16: 0
A17: X | B17: Разом доходів | C17: 431500 | D17: 431500 | E17: 0 | F17: 0
A20: Начальник фінансового відділу Ганна ДОМІТРЮК

Sheet дод 2
D1: Додаток №2
F2: ='Дод 1'!F2 -> до рішення XХХХ сесії Великокучурівської сільської ради VIІI скликання від 18.10.2024 № 276-40/2024
F3: ='Дод 1'!F3 -> "Про внесення змін до бюджету Великокучурівської сільської територіальної громади на 2024 рік"
A5: Фінансування місцевого бюджету на 2024 рік
A6: 2450200000
A7: (код бюджету) | F7: (грн)
A8: Код | B8: Найменування згідно з Класифікацією фінансування бюджету | C8: Усього | D8: Загальний фонд | E8: Спеціальний фонд
E9: усього | F9: у тому числі бюджет розвитку
A11: 1 | B11: 2 | C11: 3 | D11: 4 | E11: 5 | F11: 6
A12: Фінансування за типом кредитора
A13: 200000 | B13: Внутрішнє фінансування | C13: 0 | D13: -195000 | E13: 195000 | F13: 195000
A14: 208000 | B14: Фінансування за рахунок зміни залишків коштів бюджетів | C14: 0 | D14: -195000 | E14: 195000 | F14: 195000
A15: 208400 | B15: Кошти, що передаються із загального фонду бюджету до бюджету розвитку (спеціального фонду) | C15: 0 | D15: -195000 | E15: 195000 | F15: 195000
A16: X | B16: Загальне фінансування | C16: 0 | D16: -195000 | E16: 195000 | F16: 195000
A17: Фінансування за типом боргового зобов’язання
A18: 600000 | B18: Фінансування за активними операціями | C18: 0 | D18: -195000 | E18: 195000 | F18: 195000
A19: 602000 | B19: Зміни обсягів бюджетних коштів | C19: 0 | D19: -195000 | E19: 195000 | F19: 195000
A20: 602400 | B20: Кошти, що передаються із загального фонду бюджету до бюджету розвитку (спеціального фонду) | C20: 0 | D20: -195000 | E20: 195000 | F20: 195000
A21: X | B21: Загальне фінансування | C21: 0 | D21: -195000 | E21: 195000 | F21: 195000
B23: Начальник фінансового відділу Ганна ДОМІТРЮК

Sheet дод3
L1: Додаток №3
O2: ='дод 2'!F2 -> до рішення XХХХ сесії Великокучурівської сільської ради VIІI скликання від 18.10.2024 № 276-40/2024
O3: ='дод 2'!F3 -> "Про внесення змін до бюджету Великокучурівської сільської територіальної громади на 2024 рік"
A5: РОЗПОДІЛ
A6: видатків місцевого бюджету на 2024 рік
A7: 2450200000
A8: (код бюджету) | P8: (грн.)
A9: Код Програмної класифікації видатків та кредитування місцевого бюджету | B9: Код Типової програмної класифікації видатків та кредитування місцевого бюджету | C9: Код Функціональної класифікації видатків та кредитування бюджету | D9: Найменування головного розпорядника коштів місцевого бюджету/ відповідального виконавця, найменування бюджетної програми згідно з Типовою програмною класифікацією видатків та кредитування місцевого бюджету | E9: Загальний фонд | J9: Спеціальний фонд | P9: Разом
E10: усього | F10: видатки споживання | G10: з них | I10: видатки розвитку | J10: усього | K10: у тому числі бюджет розвитку | L10: видатки споживання | M10: з них | O10: видатки розвитку
G11: оплата праці | H11: комунальні послуги та енергоносії | M11: оплата праці | N11: комунальні послуги та енергоносії
A13: 1 | B13: 2 | C13: 3 | D13: 4 | E13: 5 | F13: 6 | G13: 7 | H13: 8 | I13: 9 | J13: 10 | K13: 11 | L13: 12 | M13: 13 | N13: 14 | O13: 15 | P13: 16
A14: 0100000 | D14: Великокучурівська сільська рада | E14: 236500 | F14: 124300 | G14: 0 | H14: 0 | I14: 112200 | J14: 0 | K14: 0 | L14: 0 | M14: 0 | N14: 0 | O14: 0 | P14: 236500
A15: 0110000 | D15: Апарат (секретаріат) місцевої ради (Верховної Ради Автономної Республіки Крим, обласних, Київської та Севастопольської міських рад, районних рад і рад міст обласного та республіканського Автономної Республіки Крим, районного значення, селищних, сільс | E15: 236500 | F15: 124300 | G15: 0 | H15: 0 | I15: 112200 | J15: 0 | K15: 0 | L15: 0 | M15: 0 | N15: 0 | O15: 0 | P15: 236500
A16: 0110150 | B16: 0150 | C16: 0111 | D16: Організаційне, інформаційно-аналітичне та матеріально-технічне забезпечення діяльності обласної ради, районної ради, районної у місті ради (у разі її створення), міської, селищної, сільської рад | E16: 20000 | F16: 20000 | G16: 0 | H16: 0 | I16: 0 | J16: 0 | K16: 0 | L16: 0 | M16: 0 | N16: 0 | O16: 0 | P16: 20000
A17: 0113241 | B17: 3241 | C17: 1090 | D17: Забезпечення діяльності інших закладів у сфері соціального захисту і соціального забезпечення | E17: 104300 | F17: 104300 | G17: 0 | H17: 0 | I17: 0 | J17: 0 | K17: 0 | L17: 0 | M17: 0 | N17: 0 | O17: 0 | P17: 104300
A18: 0116030 | B18: 6030 | C18: 0620 | D18: Організація благоустрою населених пунктів | E18: 112200 | F18: 0 | G18: 0 | H18: 0 | I18: 112200 | J18: 0 | K18: 0 | L18: 0 | M18: 0 | N18: 0 | O18: 0 | P18: 112200
A19: 0600000 | D19: Відділ ОКМС Великокучурівської с/р | E19: 0 | F19: 0 | G19: 0 | H19: 0 | I19: 0 | J19: 195000 | K19: 195000 | L19: 952400 | M19: 0 | N19: 0 | O19: -757400 | P19: 195000
A20: 0610000 | D20: Відділ ОКМС Великокучурівської с/р | E20: 0 | F20: 0 | G20: 0 | H20: 0 | I20: 0 | J20: 195000 | K20: 195000 | L20: 952400 | M20: 0 | N20: 0 | O20: -757400 | P20: 195000
A21: 0611010 | B21: 1010 | C21: 0910 | D21: Надання дошкільної освіти | E21: -30000 | F21: -30000 | G21: 0 | H21: 0 | I21: 0 | J21: 0 | K21: 0 | L21: 0 | M21: 0 | N21: 0 | O21: 0 | P21: -30000
A22: 0611021 | B22: 1021 | C22: 0921 | D22: Надання загальної середньої освіти закладами загальної середньої освіти за рахунок коштів місцевого бюджету | E22: 0 | F22: 0 | G22: 0 | H22: 0 | I22: 0 | J22: 195000 | K22: 195000 | L22: 0 | M22: 0 | N22: 0 | O22: 195000 | P22: 195000
A23: 0611292 | B23: 1292 | C23: 0990 | D23: Реалізація заходів за рахунок залишку коштів за освітньою субвенцією на кінець бюджетного періоду, що мають цільове призначення, виділених відповідно до рішень Кабінету Міністрів України у попередніх бюджетних періодах (за спеціальним фондом державного бю | E23: 0 | F23: 0 | G23: 0 | H23: 0 | I23: 0 | J23: 0 | K23: 0 | L23: 952400 | M23: 0 | N23: 0 | O23: -952400 | P23: 0
A24: 0614060 | B24: 4060 | C24: 0828 | D24: Забезпечення діяльності палаців i будинків культури, клубів, центрів дозвілля та iнших клубних закладів | E24: 30000 | F24: 30000 | G24: 0 | H24: 0 | I24: 0 | J24: 0 | K24: 0 | L24: 0 | M24: 0 | N24: 0 | O24: 0 | P24: 30000
A25: 3700000 | D25: Фінвідділ Великокучурівської с/р | E25: 0 | F25: -96000 | G25: 0 | H25: 0 | I25: 96000 | J25: 0 | K25: 0 | L25: 0 | M25: 0 | N25: 0 | O25: 0 | P25: 0
A26: 3710000 | D26: Фінвідділ Великокучурівської с/р | E26: 0 | F26: -96000 | G26: 0 | H26: 0 | I26: 96000 | J26: 0 | K26: 0 | L26: 0 | M26: 0 | N26: 0 | O26: 0 | P26: 0
A27: 3719800 | B27: 9800 | C27: 0180 | D27: Субвенція з місцевого бюджету державному бюджету на виконання програм соціально-економічного розвитку регіонів | E27: 0 | F27: -96000 | G27: 0 | H27: 0 | I27: 96000 | J27: 0 | K27: 0 | L27: 0 | M27: 0 | N27: 0 | O27: 0 | P27: 0
A28: X | B28: X | C28: X | D28: УСЬОГО | E28: 236500 | F28: 28300 | G28: 0 | H28: 0 | I28: 208200 | J28: 195000 | K28: 195000 | L28: 952400 | M28: 0 | N28: 0 | O28: -757400 | P28: 431500
D31: Начальник фінансового відділу Ганна ДОМІТРЮК

Sheet дод 4
C1: Додаток №4
D2: =дод3!O2 -> до рішення XХХХ сесії Великокучурівської сільської ради VIІI скликання від 18.10.2024 № 276-40/2024
D3: =дод3!O3 -> "Про внесення змін до бюджету Великокучурівської сільської територіальної громади на 2024 рік"
A6: Міжбюджетні трансферти на 2024 рік
A7: 2450200000
A8: (код бюджету)
A9: 1. Показники міжбюджетних трансфертів з інших бюджетів
D10: (грн)
A11: Код Класифікації доходу бюджету/ Код бюджету | B11: Найменування трансферту/ Найменування бюджету – надавача міжбюджетного трансферту | D11: Усього
A12: 1 | B12: 2 | D12: 3
A13: І. Трансферти до загального фонду бюджету
A14: 41040400 | B14: Інші дотації з місцевого бюджету | D14: =D15 -> 6638
A15: 241000000000 | B15: Обласний бюджет Чернівецької області | D15: 6638
A16: 41040200 | B16: Дотація з місцевого бюджету на здійснення переданих з державного бюджету видатків з утримання закладів освіти та охорони здоров`я за рахунок відповідної додаткової дотації з державного бюджету | D16: =D17 -> 0
A17: 241000000000 | B17: Обласний бюджет Чернівецької області
A18: 41051400 | B18: Субвенція з місцевого бюджету на забезпечення якісної, сучасної та доступної загальної середньої освіти `Нова українська школа` за рахунок відповідної субвенції з державного бюджету | D18: =D19 -> 576700
A19: 2410000000 | B19: Чернівецький обласний бюджет | D19: 576700
A20: ІІ. Трансферти до спеціального фонду бюджету
A21: 41051100 | B21: Субвенція з місцевого бюджету за рахунок залишку коштів освітньої субвенції, що утворився на початок бюджетного періоду | D21: =D22 -> 2300000
A22: 2410000000 | B22: Чернівецький обласний бюджет | D22: 2300000
A23: 41033900 | B23: Освітня субвенція з державного бюджету місцевим бюджетам | D23: 0
A24: 9900000000 | B24: Державний бюджет | D24: 0
A25: X | B25: УСЬОГО за розділом І та ІІ, у тому числі: | D25: =D26+D27 -> 2883338
A26: X | B26: загальний фонд | D26: =D14+D18 -> 583338
A27: X | B27: спеціальний фонд | D27: =D21 -> 2300000
A29: 2. Показники міжбюджетних трансфертів іншим бюджетам | D29: (грн)
A30: Код Програмної класифікації видатків та кредитування місцевого бюджету/ Код бюджету | B30: Код типової програмної класифікації видатків та кредитування місцевого бюджету | C30: Найменування трансферту/ Найменування бюджету – отримувача міжбюджетного трансферту | D30: Усього
A31: 1 | B31: 2 | C31: 3 | D31: 4
A32: І. Трансферти із загального фонду бюджету
A33: 3719770 | B33: 9770 | C33: Інші субвенції з місцевого бюджету | D33: =D34+D36+D35 -> 576095
A34: 2410000000 | B34: 9770 | C34: Обласний бюджет Чернівецької області (співфінансування шкільного автобуса) | D34: 370000
A35: 2410000000 | B35: 9770 | C35: Обласний бюджет Чернівецької області (для фінансування заходу 6.5 Регіональної програми профілактики правопорушень в Чернівецькій області на період 2023-2025 років(для Територіального управління БЕБ у Чернівецькій області)) | D35: 200000
A36: 2451300000 | B36: 9770 | C36: Бюджет Сторожинецької міської територіальної громади | D36: 6095
B37: 3719800 | C37: Субвенція з місцевого бюджету державному бюджету на виконання програм соціально-економічного розвитку регіонів | D37: =D38+D39+D40 -> 100000
A38: 99000000000 | B38: 9800 | C38: Глибоцька окружна прокуратура | D38: 50000
A39: 99000000000 | B39: 9800 | D39: 0
A40: 99000000000 | B40: 9800 | C40: Сторожинецький відділ ДПС | D40: 50000
A43: ІІ. Трансферти із спеціального фонду бюджету
A44: 3719770 | B44: 9770 | C44: Інші субвенції з місцевого бюджету | D44: 0
A45: 2451300000 | B45: 9770 | C45: Бюджет Сторожинецької міської територіальної громади | D45: 0
...

Sheet дод. 4
E1: Додаток №4 | L1: Додаток 4
R2: =дод3!O2 -> до рішення XХХХ сесії Великокучурівської сільської ради VIІI скликання від 18.10.2024 № 276-40/2024
R3: =дод3!O3 -> "Про внесення змін до бюджету Великокучурівської сільської територіальної громади на 2024 рік"
A6: Міжбюджетні трансферти на 2021 рік
A9: ='дод 2'!A6 -> 2450200000
A10: ='Дод 1'!A7 -> (код бюджету) | R10: грн.
A11: Код бюджету | B11: Найменування бюджету - одержувача / надавача міжбюджетного трансферту | C11: Трансферти з інших місцевих бюджетів | L11: Трансферти іншим бюджетам
C12: Дотація з місцевого бюджету на здійснення переданих з державного бюджету видатків з утримання закладів освіти та охорони здоров'я за рахунок відповідної додаткової дотації з держбюджету | D12: Базова дотація | E12: Дотація з місцевого бюджету на здійснення переданих з державного бюджету видатків з утримання закладів освіти та охорони здоров'я за рахунок відповідної додаткової дотації з держбюджету | F12: субвенції | K12: усього | L12: дотація на: | N12: субвенції | R12: усього
F13: загального фонду на: | I13: спеціального фонду на: | N13: загального фонду на: | P13: спеціального фонду на:
F14: Освітня субвенція з державного бюджету місцевим бюджетам | G14: Субвенція з місцевого бюджету на надання державної підтримки особам з особливими освітніми потребами за рахунок відповідної субвенції з державного бюджету | L14: Дотація з місцевого бюджету на здійснення переданих з державного бюджету видатків з утримання закладів освіти та охорони здоров'я за рахунок відповідної додаткової дотації з держбюджету | N14: Субвенція з місцевого бюджету на здійснення переданих видатків у сфері охорони здоров`я за рахунок коштів медичної субвенції | O14: Інші субвенції з місцевого бюджету
G15: видатки споживання | H15: видатки розвитку
B16: Державний бюджет України | D16: 25058000 | E16: 0 | F16: 37819000 | G16: 0 | H16: 0 | K16: =SUM(D16:H16) -> 62877000
A17: 24310200000 | B17: бюджет Сторожинецької МТГ | C17: 0 | D17: 0 | E17: 0 | F17: 0 | G17: 0 | H17: 0 | K17: =SUM(D17:H17) -> 0 | L17: 0 | O17: 235000 | R17: =O17+N17 -> 235000
A18: 24100000000 | B18: Обласний бюджет Чернівецької області | C18: 2487800 | D18: 0 | E18: 1572900 | F18: 0 | G18: 311700 | H18: 158000 | K18: =SUM(D18:H18) -> 2042600 | L18: 0 | N18: 0 | O18: 0 | R18: =L18+N18+O18 -> 0
A19: Х | B19: Усього | D19: =SUM(D16:D18) -> 25058000 | E19: =SUM(E16:E18) -> 1572900 | F19: =SUM(F16:F18) -> 37819000 | G19: =SUM(G16:G18) -> 311700 | H19: =SUM(H16:H18) -> 158000 | I19: =SUM(I16:I18) -> 0 | J19: =SUM(J16:J18) -> 0 | K19: =SUM(K16:K18) -> 64919600 | ... R19: =SUM(R16:R18) -> 235000
B21: В.о. начальника фінансового відділу Домітрюк Г.В.

Sheet дод.5
G1: Додаток №4
I2: ='дод. 4'!R2 -> до рішення XХХХ сесії Великокучурівської сільської ради VIІI скликання від 18.10.2024 № 276-40/2024
I3: ='дод. 4'!R3 -> "Про внесення змін до бюджету Великокучурівської сільської територіальної громади на 2024 рік"
A5: ОБСЯГИ
A6: капітальних вкладень бюджету у розрізі інвестиційних проектів у 2024 році
A7: ='дод 2'!A6 -> 2450200000
A8: ='дод 2'!A7 -> (код бюджету) | H8: грн.
A9: Код Програмної класифікації видатків та кредитування місцевого бюджету | B9: Код Типової програмної класифікації видатків та кредитування місцевого бюджету | C9: Код Функціональної класифікації видатків та кредитування бюджету | D9: Найменування головного розпорядника коштів місцевого бюджету/ відповідального виконавця, найменування бюджетної програми згідно з Типовою програмною класифікацією видатків та кредитування місцевого бюджету | E9: Найменування інвестиційного проекту | F9: Загальний період реалізації проекту, (рік початку і завершення) | G9: Загальна вартість проекту, гривень | H9: Обсяг капітальних вкладень місцевого бюджету всього, гривень | I9: Обсяг капітальних вкладень місцевого бюджету у 2024 році, гривень | J9: Очікуваний рівень готовності проекту на кінець 2024 року, %
A10: 1 | B10: 2 | C10: 3 | D10: 4 | E10: 5 | F10: 6 | G10: 7 | H10: 8 | I10: 9 | J10: 10
A11: 0110150 | B11: 0150 | C11: 0111 | D11: Великокучурiвська сiльська рада | E11: придбання основних засобів та їх частин
A12: 0118240 | B12: 8240 | C12: 0380 | D12: Великокучурiвська сiльська рада | E12: придбання квадрокоптера для військової частини 3113
A13: 0117321 | B13: 7321 | C13: 0443 | D13: Великокучурiвська сiльська рада | E13: будівництво укриття в Тисовецькому ЗЗСО І-ІІ ступенів ім.А.Дущак
A14: 0113242 | B14: 3242 | C14: 1090 | D14: Великокучурiвська сiльська рада | E14: встановлення надгробних пам'ятників загиблим героям
A15: 0617321 | C15: 0443 | D15: Відділ ОКМС Великокучурівської с/р
A16: 0117325 | B16: 7325 | C16: 0443 | D16: Великокучурiвська сiльська рада
A17: 0117461 | B17: 7461 | C17: 0456 | D17: Великокучурiвська сiльська рада
A18: 0617321 | B18: 7321 | C18: 0443 | D18: Відділ ОКМС Великокучурівської с/р | E18: капітальний ремонт захисної споруди цивільного захисту протерадіаційного укритя № 98444 Великокучурівської сільської ради по вул.Центральна,64 в с.Годилів Чернівецького району Чернівецької області
A19: 0611021 | B19: 7321 | C19: 0443 | D19: Відділ ОКМС Великокучурівської с/р
A20: 0617321 | B20: 7321 | C20: 0443 | D20: Відділ ОКМС Великокучурівської с/р | E20: капітальний ремонт захисної споруди цивільного захисту Снячівського ЗЗСО
A21: 0118240 | B21: 8240 | C21: 0380 | D21: Великокучурiвська сiльська рада | E21: придбання обладднання та предметів довгострокового користування
A22: 0116014 | B22: 6014 | C22: 0620 | D22: КП "ВК-Сервіс" | E22: придбання спецтехніки
A23: 0600000 | D23: Великокучурiвська сiльська рада
A24: 0610000 | D24: Великокучурiвська сiльська рада
A25: 0611021 | B25: 1021 | C25: 0921 | D25: Відділ ОКМС Великокучурівської с/р | E25: капітальний ремонт найпростішого укриття Снячівського ЗЗСО І-ІІІ ступенів с.Снячів вул.Садова,3 | H25: 195000
A26: 0611181 | B26: 1181 | C26: 0990 | D26: Відділ ОКМС Великокучурівської с/р | E26: співфінансування заходів по НУШ
A27: 0611182 | B27: 1182 | C27: 0990 | D27: Відділ ОКМС Великокучурівської с/р | E27: фінансування заходів по НУШ
A28: 0611291 | B28: 1291 | C28: 0990 | D28: Відділ ОКМС Великокучурівської с/р | E28: облаштування осередку для навчального предмету "Захист України"
A29: 3710160 | B29: 0160 | C29: 0111 | D29: Фінвідділ Великокучурівської с/р | E29: придбання принтера | H29: 0
A30: X | B30: X | C30: X | D30: УСЬОГО | E30: X | F30: X | G30: X | H30: =SUM(H11:H29) -> 195000 | I30: Х | J30: X
B32: Начальник фінансового відділу Ганна ДОМІТРЮК

Sheet Дод.6
G1: Додаток №5
J2: ='Дод 1'!F2 -> до рішення XХХХ сесії Великокучурівської сільської ради VIІI скликання від 18.10.2024 № 276-40/2024
J3: ='Дод 1'!F3 -> "Про внесення змін до бюджету Великокучурівської сільської територіальної громади на 2024 рік"
C5: Розподіл витрат місцевого бюджету на реалізацію місцевих/регіональних програм у 2024 році
A7: 24502000000
A8: (код бюджету) | J8: (грн.)
A9: Код Програмної класифікації видатків та кредитування місцевого бюджету | B9: Код Типової програмної класифікації видатків та кредитування місцевого бюджету | C9: Код Функціональної класифікації видатків та кредитування бюджету | D9: Найменування головного розпорядника коштів місцевого бюджету/ відповідального виконавця, найменування бюджетної програми згідно з Типовою програмною класифікацією видатків та кредитування місцевого бюджету | E9: Найменування місцевої/ регіональної програми | F9: Дата та номер документа, яким затверджено місцеву регіональну програму | G9: Усього | H9: Загальний фонд | I9: Спеціальний фонд
I10: усього | J10: у тому числі бюджет розвитку
A11: 1 | B11: 2 | C11: 3 | D11: 4 | E11: 5 | F11: 6 | G11: 7 | H11: 8 | I11: 9 | J11: 10
A12: 0100000 | D12: Великокучурiвська сiльська рада | G12: =G33 -> 0 | H12: =H13 -> 216500 | I12: =I13 -> 0 | J12: =J13 -> 0
A13: 0110000 | D13: Великокучурiвська сiльська рада | G13: =G33 -> 0 | H13: =SUM(H14:H33) -> 216500 | I13: =I33 -> 0 | J13: =J33 -> 0
A14: 0110180 | B14: 0180 | C14: 0133 | D14: Інша діяльність у сфері державного управління | E14: Програма фінансового забезпечення представницьких витрат та інших видатків, повязаних з діяльністю великокучурівської сільскої ради на 2022-2024 роки | F14: рішення XIV сесії VІІІ скликання №434 -14/2021 від 20.12.2021 року | G14: =H14+I14 -> 0 | H14: 0 | I14: 0 | J14: 0
A15: 0112113 | B15: 2113 | C15: 0721 | D15: Первинна медична допомога населенню, що надається амбулаторно-поліклінічними закладами (відділеннями) | E15: Програма фінансової підтримки та розвитку КНП Великокучурівська АЗПСМ Великокучурівської СТГ на 2022-2024 роки | F15: рішення XIV сесії VІІІ скликання № 433-14/2021 від 20.12.2021 року | G15: =H15+I15 -> 0 | H15: 0 | I15: 0 | J15: 0
A16: 0113032 | B16: 3032 | C16: 1070 | D16: Надання пільг окремим категоріям громадян з оплати послуг зв`язку | E16: Комплексна програма соціального захисту населення та захисту прав дітей Великокучурівської сільської територіальної громади на 2022-2024 року | F16: рішення XIV сесії VІІІ скликання №437 -14/2021 від 20.12.2021 року | G16: =H16+I16 -> 0 | H16: 0 | I16: 0 | J16: 0
A17: 0113033 | B17: 3033 | C17: 1070 | D17: Компенсаційні виплати на пільговий проїзд автомобільним транспортом окремим категоріям громадян | E17: Комплексна програма соціального захисту населення та захисту прав дітей Великокучурівської сільської територіальної громади на 2022-2024 року | F17: рішення XIV сесії VІІІ скликання №437 -14/2021 від 20.12.2021 року | G17: =H17+I17 -> 0 | H17: 0 | I17: 0 | J17: 0
A18: 0113035 | B18: 3035 | C18: 1070 | D18: Компенсаційні виплати за пільговий проїзд окремих категорій громадян на залізничному транспорті | E18: Комплексна програма соціального захисту населення та захисту прав дітей Великокучурівської сільської територіальної громади на 2022-2024 року | F18: рішення XIV сесії VІІІ скликання №437 -14/2021 від 20.12.2021 року | G18: =H18+I18 -> 0 | H18: 0 | I18: 0 | J18: 0
A19: 0113160 | B19: 3160 | C19: 1010 | D19: Надання соціальних гарантій фізичним особам, які надають соціальні послуги громадянам похилого віку, особам з інвалідністю, дітям з інвалідністю, хворим, які не здатні до самообслуговування і потребують сторонньої допомоги | E19: Комплексна програма соціального захисту населення та захисту прав дітей Великокучурівської сільської територіальної громади на 2022-2024 року | F19: рішення XIV сесії VІІІ скликання №437 -14/2021 від 20.12.2021 року | G19: =H19+I19 -> 0 | H19: 0 | I19: 0 | J19: 0
A20: 0113230 | B20: 3230 | C20: 1070 | D20: Видатки, пов`язані з наданням підтримки внутрішньо перемішеним та/або евакуйованим особам у зв`язку із введенням воєнного стану | E20: Комплексна програма соціального захисту населення та захисту прав дітей Великокучурівської сільської територіальної громади на 2022-2024 року | F20: рішення XIV сесії VІІІ скликання №437 -14/2021 від 20.12.2021 року | G20: =H20+I20 -> 0
A21: 0113241 | B21: 3241 | C21: 1090 | D21: Забезпечення діяльності інших закладів у сфері соціального захисту і соціального забезпечення | E21: Комплексна програма соціального захисту населення та захисту прав дітей Великокучурівської сільської територіальної громади на 2022-2024 року | F21: рішення XIV сесії VІІІ скликання №437 -14/2021 від 20.12.2021 року | G21: =H21+I21 -> 104300 | H21: 104300 | I21: 0 | J21: 0
A22: 0113242 | B22: 3242 | C22: 1090 | D22: Інші заходи у сфері соціального захисту і соціального забезпечення | E22: Комплексна програма соціального захисту населення та захисту прав дітей Великокучурівської сільської територіальної громади на 2022-2024 року | F22: рішення XIV сесії VІІІ скликання №437 -14/2021 від 20.12.2021 року | G22: =H22+I22 -> 0 | I22: 0 | J22: 0
A23: 0113242 | B23: 3242 | C23: 1090 | D23: Інші заходи у сфері соціального захисту і соціального забезпечення | E23: Програма вшанування пам'яті учасників бойових дій, які загинули (померли) підчас проходження служби в районі проведення антитерористичної операції/операції об'єднаних сил допомоги та під час дії воєнного стану в Україні та підтримки їхніх сімей на 25023-2025 роки | F23: рішення ХХХІ сесії №167-31/2023 | G23: =H23+I23 -> 0
A24: 0116014 | B24: 6014 | C24: 0620 | D24: Забезпечення збору та вивезення сміття і відходів | E24: Програма благоустрою населених пунктів Великокучурівської сільської територіальної громади на 2022-2024 роки | F24: рішення XIV сесії VІІІ скликання №432 -14/2021 від 20.12.2021 року | G24: =H24+I24 -> 0 | H24: 0 | I24: 0 | J24: 0
A25: 0116030 | B25: 6030 | C25: 0620 | D25: Організація благоустрою населених пунктів | E25: Програма благоустрою населених пунктів Великокучурівської сільської територіальної громади на 2022-2024 роки | F25: рішення XIV сесії VІІІ скликання №432 -14/2021 від 20.12.2021 року | G25: =H25+I25 -> 112200 | H25: 112200 | I25: 0 | J25: 0
A26: 0117130 | B26: 7130 | C26: 0421 | D26: Здійснення заходів із землеустрою | E26: Програма розвитку земельних відносин та забезпечення містобудівною документацією на території Великокучурівської сільської територіальної громади на 2022-2024 роки | F26: рішення XIV сесії VІІІ скликання №436 -14/2021 від 20.12.2021 року | G26: =H26+I26 -> 0 | H26: 0 | I26: 0 | J26: 0
A27: 0117321 | B27: 7321 | C27: 0443 | D27: Будівництво освітніх установ та закладів | E27: Програтми підвищення рівня безпеки життя громадян Великокучурівської сільської територіальної громади на 2021-2025 роки | F27: рішення ІІІ сесії VIII скликання №34-03/2021 від 12.02.2021 року | G27: =H27+I27 -> 0 | H27: 0 | I27: 0 | J27: 0
A28: 0117350 | B28: 7350 | C28: 0443 | D28: Розроблення схем планування та забудови територій (містобудівної документації) | E28: Програма розвитку земельних відносин та забезпечення містобудівною документацією на території Великокучурівської сільської територіальної громади на 2022-2024 роки | F28: рішення XIV сесії VІІІ скликання №436 -14/2021 від 20.12.2021 року | G28: =H28+I28 -> 0 | I28: 0 | J28: 0
A29: 0117461 | B29: 7461 | C29: 0456 | D29: Утримання та розвиток автомобільних доріг та дорожньої інфраструктури за рахунок коштів місцевого бюджету | E29: Програма утримання та розвитку дорожньої інфраструктури Великокучурівської СТГ на 2022-2024 роки | F29: рішення XIV сесії VІІІ скликання №431 -14/2021 від 20.12.2021 року | G29: =H29+I29 -> 0 | I29: 0 | J29: 0
A30: 0117691 | B30: 7691 | C30: 0490 | D30: Виконання заходів за рахунок цільових фондів, утворених Верховною Радою Автономної Республіки Крим, органами місцевого самоврядування і місцевими органами виконавчої влади і фондів, утворених Верховною Радою Автономної Республіки Крим, органами місцевого самоврядування і місцевими органами виконавчої влади | E30: Програтми підвищення рівня безпеки життя громадян Великокучурівської сільської територіальної громади на 2021-2025 роки | F30: рішення ІІІ сесії VIII скликання №34-03/2021 від 12.02.2021 року | G30: =H30+I30 -> 0 | H30: 0 | J30: 0
A31: 0118130 | B31: 8130 | C31: 0320 | D31: Забезпечення діяльності місцевої та добровільної пожежної охорони | E31: Програтми підвищення рівня безпеки життя громадян Великокучурівської сільської територіальної громади на 2021-2025 роки | F31: рішення ІІІ сесії VIII скликання №34-03/2021 від 12.02.2021 року | G31: =H31+I31 -> 0 | H31: 0 | I31: 0 | J31: 0
A32: 0118230 | B32: 8230 | C32: 0380 | D32: Інші заходи громадського порядку та безпеки | E32: Програтми підвищення рівня безпеки життя громадян Великокучурівської сільської територіальної громади на 2021-2025 роки | F32: рішення ІІІ сесії VIII скликання №34-03/2021 від 12.02.2021 року | G32: =H32+I32 -> 0 | I32: 0 | J32: 0
A33: 0118240 | B33: 8240 | C33: 0380 | D33: Заходи та роботи з територіальної оборони | E33: Програтми підвищення рівня безпеки життя громадян Великокучурівської сільської територіальної громади на 2021-2025 роки | F33: рішення ІІІ сесії VIII скликання №34-03/2021 від 12.02.2021 | G33: =H33+I33 -> 0 | H33: 0 | I33: 0 | J33: 0
A34: 0600000 | D34: Відділ освіти, культури, молоді та спорту Великокучурівської сільської ради Чернівецького району Чернівецької області | G34: =H34+I34 -> 195000 | H34: =H35 -> 0 | I34: =I35 -> 195000 | J34: =J35 -> 195000
A35: 0610000 | D35: Відділ освіти, культури, молоді та спорту Великокучурівської сільської ради Чернівецького району Чернівецької області | G35: =H35+I35 -> 195000 | H35: =SUM(H36:H41) -> 0 | I35: =SUM(I36:I41) -> 195000 | J35: =SUM(J36:J41) -> 195000
A36: 0611010 | B36: 1010 | C36: 0910 | D36: Надання дошкільної освіти | E36: Комплаксна програма розвитку та діяльності закладів освіти Великокучурівської сільскої ради на 2024-2026 роки | F36: рішення ХХХІІІ сесії Великокучурівської сільської ради від 13.12.2023 року | G36: =H36+I36 -> 0 | H36: 0 | J36: 0
A37: 0611021 | B37: 1021 | C37: 0921 | D37: Надання загальної середньої освіти закладами загальної середньої освіти за рахунок коштів місцевого бюджету | E37: Комплаксна програма розвитку та діяльності закладів освіти Великокучурівської сільскої ради на 2024-2026 роки | F37: рішення ХХХІІІ сесії Великокучурівської сільської ради від 13.12.2023 року | G37: =H37+I37 -> 195000 | H37: 0 | I37: 195000 | J37: 195000
A38: 0611080 | B38: 1080 | C38: 0960 | D38: Надання спеціалізованої освіти мистецькими школами | E38: Комплаксна програма розвитку та діяльності закладів освіти Великокучурівської сільскої ради на 2024-2026 роки | F38: рішення ХХХІІІ сесії Великокучурівської сільської ради від 13.12.2023 року | G38: =H38+I38 -> 0 | H38: 0 | I38: 0 | J38: 0
A39: 0614060 | B39: 4060 | C39: 0828 | D39: Забезпечення діяльності палаців i будинків культури, клубів, центрів дозвілля та iнших клубних закладів | E39: Програма розвитку культурної діяльності у Великокучурівській сільській територіальній громаді на 2023-2026 роки | F39: рішення XХХІ сесії VІІІ скликання № 139-31/2023 від 13.09.2023 року | G39: =H39+I39 -> 0 | H39: 0 | I39: 0 | J39: 0
A40: 0615031 | B40: 5031 | C40: 0810 | D40: Утримання та навчально-тренувальна робота комунальних дитячо-юнацьких спортивних шкіл | E40: Програма розвитку фізичної культури і спорту у Великокучурівській сільській територіальній громаді на 2022-2024 роки | F40: рішення XVІ сесії VІІІ скликання № 10-16/2022 від 22.02.2022 року | G40: =H40+I40 -> 0 | H40: 0 | I40: 0 | J40: 0
A41: 0617321 | B41: 7321 | C41: 0443 | D41: Будівництво освітніх установ та закладів | E41: Програтми підвищення рівня безпеки життя громадян Великокучурівської сільської територіальної громади на 2021-2025 роки | F41: рішення ІІІ сесії VIII скликання №34-03/2021 від 12.02.2021 року | G41: =H41+I41 -> 0 | H41: 0
A42: 3700000 | D42: Фінансовий відділ Великокучурівської сільської ради Чернівецького району Чернівецької області | G42: =H42+I42 -> 0 | H42: 0 | I42: 0 | J42: 0
...

Sheet дод 7
B1: Додаток № 5
B2: =Дод.6!J2 -> до рішення XХХХ сесії Великокучурівської сільської ради VIІI скликання від 18.10.2024 № 276-40/2024
B3: =Дод.6!J3 -> "Про внесення змін до бюджету Великокучурівської сільської територіальної громади на 2024 рік"
A5: Відомча класифікація видатків та кредитування бюджету Великокучурівської об'єднаної громади на 2023 рік
A7: Код | B7: Найменування
A8: 006 | B8: Обласна державна адмiнiстрацiя
A9: 01 | B9: Великокучурівська сільська рада
A10: 06 | B10: Відділ ОКМС Великокучурівської с/р
A11: 37 | B11: Фінвідділ Великокучурівської сільської ради
A14: Начальник фінансового відділу Ганна ДОМІТРЮК

Sheet дод 8
B1: Додаток № 7
C2: ='дод 7'!B2 -> до рішення XХХХ сесії Великокучурівської сільської ради VIІI скликання від 18.10.2024 № 276-40/2024
C3: ='дод 7'!B3 -> "Про внесення змін до бюджету Великокучурівської сільської територіальної громади на 2024 рік"
A5: Пелелік бюджетних установ, які фінансуватимуться з бюджету Великокучурівської сільської територіальної громади в 2023 році
A7: Код ЄДРПОУ | B7: Найменування
A8: 04418162 | B8: Великокучурівська сільська рада Чернівецького району Чернівецької області
A9: 44076241 | B9: Фінансовий відділ Великокучурівської сільської ради Чернівецького району Чернівецької області
A10: 44376142 | B10: Відділ освіти, культури, молоді і спорту Великокучурівської сільської ради Чернівецького району Чернівецької області
B11: Комунальний заклад "Центр надання соціальних послуг Великокучурівської сільської ради Чернівецького району Чернівецької області"
B12: Комунальний заклад "Центр культури та дозвілля Великокучурівської сільської ради Чернівецького району Чернівецької області"
B13: Місцева пожежна охорона Великокучурівської сільської ради Чернівецького району Чернівецької області
A14: 21440594 | B14: Великокучурівський заклад загальної середньої освіти І-ІІІ ступенів імені В.Бузенка Великокучурівської сільської ради Чернівецького району Чернівецької області
A15: 31465620 | B15: Годилівський заклад загальної середньої освіти І-ІІІ ступенів Великокучурівської сільської ради Чернівецького району Чернівецької області
A16: 21440068 | B16: Тисовецький заклад загальної середньої освіти І-ІІ ступенів імені Анни Дущак Великокучурівської сільської ради Чернівецького району Чернівецької області
A17: 21440016 | B17: Снячівський заклад загальної середньої освіти І-ІІІ ступенів Великокучурівської сільської ради Чернівецького району Чернівецької області
A18: 39421245 | B18: Великокучурівський заклад дошкільної освіти "Казка" Великокучурівської сільської ради Чернівецького району Чернівецької області
A19: 22853708 | B19: Великокучурівська музична школа Великокучурівської сільської ради Чернівецького району Чернівецької області
A20: 40542045 | B20: Великокучурівська дитячо-юнацька спортивна школа
A21: 44775759 | B21: КП "ВК-Сервіс"
A22: 44933424 | B22: Виконавчий комітет Великокучурівської сільської ради Чернівецького району Чернівецької області
A23: 44934575 | B23: Служба у справах дітей Великокучурівської сільської ради Чернівецького району Чернівецької області
A24: 40238468 | B24: КНП "Великокучурівська АЗПСМ"
A26: Начальник фінансового відділу Ганна ДОМІТРЮК
